Workbook

Sheet DESCRIÇÃO
A1: Obra: | B1: =PLANILHA!B1 -> Construção de rede de drenagem pluvial
A2: Proprietário: | B2: =#REF! -> #REF!
A3: Local: | B3: =PLANILHA!B3 -> Avenida Governador Jayme Campos
A4: Data: | B4: =PLANILHA!B4 -> 30 de julho de 2021
A5: RESUMO ORÇAMENTO
A7: Item | B7: DESCRIÇÃO | F7: Valores totais
A8: 1.0 | B8: =PLANILHA!D7 -> SERVIÇOS PRELIMINARES | F8: =PLANILHA!I7 -> #REF!
A9: 2.0 | B9: =PLANILHA!D13 -> MOVIMENTAÇÃO DE TERRA | F9: =PLANILHA!I13 -> 111628.34
A10: 3.0 | B10: =PLANILHA!D22 -> REDE DE DRENAGEM | F10: =PLANILHA!I22 -> #REF!
A11: 4.0 | B11: =PLANILHA!D39 -> TRANSPORTE | F11: =PLANILHA!I39 -> 8585.1134
B12: TOTAL | F12: =SUM(F8:F11) -> #REF!
A13: RESPONSÁVEL TÉCNICO ORÇAMENTISTA | E13: CONTRATANTE | F13: OBSERVAÇÕES
A17: JOÃO GUSTAVO FARIA DOS SANTOS JÚNIOR | E17: PREFEITURA MUNICIPAL DE INDIAVAÍ
A18: ENG. CIVIL - CREA Nº 5064045506 | E18: PREFEITO MUNICIPAL

Sheet QCI
A1: Obra: | B1: ='PLANILHA ORÇAMENTÁRIA'!B1:F1 -> REFORMA DE PISTA DE ATLETISMO | G1: BOLETIM
A2: Proprietário: | B2: ='PLANILHA ORÇAMENTÁRIA'!B2:F2 -> Prefeitura Municipal de São José dos Quatro Marcos | G2: SINAPI 04/2025
A3: Local: | B3: ='PLANILHA ORÇAMENTÁRIA'!B3:F3 -> ZONA URBANA | G3: BDI - SERVIÇOS
A4: Data: | B4: ='PLANILHA ORÇAMENTÁRIA'!B4:F4 -> 45936 | G4: ='DESCRIÇÃO DE ORÇAMENTO'!G4 -> 0.2624
A5: RESUMO ORÇAMENTO
A7: ITEM | B7: DESCRIÇÃO | F7: VALORES TOTAIS | G7: REPASSE | H7: REPASSE
A8: 1.0 | B8: ='PLANILHA ORÇAMENTÁRIA'!D7 -> ADMINISTRAÇÃO DE OBRA | F8: ='PLANILHA ORÇAMENTÁRIA'!I7 -> 16846.68 | G8: =($G$19/$F$19)*F8 -> 11843.991 | H8: =F8-G8 -> 5002.6887
A9: 2.0 | B9: ='PLANILHA ORÇAMENTÁRIA'!D9 -> SERVIÇOS PRELIMINARES | F9: ='PLANILHA ORÇAMENTÁRIA'!I9 -> 9282.4871 | G9: =($G$19/$F$19)*F9 -> 6526.0156 | H9: =F9-G9 -> 2756.4715
A10: 3.0 | B10: ='PLANILHA ORÇAMENTÁRIA'!D23 -> ESTRUTURA DE CONCRETO ARMADO | F10: ='PLANILHA ORÇAMENTÁRIA'!I23 -> 18104.32 | G10: =($G$19/$F$19)*F10 -> 12728.17 | H10: =F10-G10 -> 5376.1499
A11: 4.0 | B11: ='PLANILHA ORÇAMENTÁRIA'!D28 -> ESQUADRIAS | F11: ='PLANILHA ORÇAMENTÁRIA'!I28 -> 42447.3 | G11: =($G$19/$F$19)*F11 -> 29842.405 | H11: =F11-G11 -> 12604.895
A12: 5.0 | B12: ='PLANILHA ORÇAMENTÁRIA'!D41 -> PISOS | F12: ='PLANILHA ORÇAMENTÁRIA'!I41 -> 82900.62 | G12: =($G$19/$F$19)*F12 -> 58282.951 | H12: =F12-G12 -> 24617.669
A13: 6.0 | B13: ='PLANILHA ORÇAMENTÁRIA'!D52 -> PINTURAS E REVESTIMENTOS | F13: ='PLANILHA ORÇAMENTÁRIA'!I52 -> 26921.27 | G13: =($G$19/$F$19)*F13 -> 18926.892 | H13: =F13-G13 -> 7994.3784
A14: 7.0 | B14: ='PLANILHA ORÇAMENTÁRIA'!D60 -> COBERTURAS | F14: ='PLANILHA ORÇAMENTÁRIA'!I60 -> 8492.86 | G14: =($G$19/$F$19)*F14 -> 5970.8714 | H14: =F14-G14 -> 2521.9886
A15: 8.0 | B15: ='PLANILHA ORÇAMENTÁRIA'!D63 -> FECHAMENTO E EQUIPAMENTOS | F15: ='PLANILHA ORÇAMENTÁRIA'!I63 -> 77750.14 | G15: =($G$19/$F$19)*F15 -> 54661.926 | H15: =F15-G15 -> 23088.214
A16: 9.0 | B16: ='PLANILHA ORÇAMENTÁRIA'!D80 -> INSTALAÇÕES HIDROSSANITÁRIAS | F16: ='PLANILHA ORÇAMENTÁRIA'!I80 -> 25352.63 | G16: =($G$19/$F$19)*F16 -> 17824.066 | H16: =F16-G16 -> 7528.5645
A17: 10.0 | B17: ='PLANILHA ORÇAMENTÁRIA'!D118 -> INSTALAÇÕES ELÉTRICAS | F17: ='PLANILHA ORÇAMENTÁRIA'!I118 -> 168246.53 | G17: =($G$19/$F$19)*F17 -> 118285.05 | H17: =F17-G17 -> 49961.477
A18: 11.0 | B18: ='PLANILHA ORÇAMENTÁRIA'!D161 -> SERVIÇOS COMPLEMENTARES | F18: ='PLANILHA ORÇAMENTÁRIA'!I161 -> 70141.44 | G18: =($G$19/$F$19)*F18 -> 49312.66 | H18: =F18-G18 -> 20828.78
B19: TOTAL | F19: =SUM(F8:F18) -> 546486.28 | G19: 384205 | H19: =SUM(H8:H18) -> 162281.28
A20: RESPONSÁVEL TÉCNICO ORÇAMENTISTA
K21: =IF((G19+H19)=F19,"certo","errado") -> certo
F22: OBSERVAÇÕES:
A24: JOÃO GUSTAVO FARIA DOS SANTOS JÚNIOR
A25: ENG. CIVIL - CREA Nº 64045506/SP

Sheet DESCRIÇÃO DE ORÇAMENTO
A1: Obra: | B1: ='PLANILHA ORÇAMENTÁRIA'!B1:F1 -> REFORMA DE PISTA DE ATLETISMO | G1: BOLETIM
A2: Proprietário: | B2: ='PLANILHA ORÇAMENTÁRIA'!B2:F2 -> Prefeitura Municipal de São José dos Quatro Marcos | G2: SINAPI 04/2025
A3: Local: | B3: ='PLANILHA ORÇAMENTÁRIA'!B3:F3 -> ZONA URBANA | G3: BDI - SERVIÇOS
A4: Data: | B4: ='PLANILHA ORÇAMENTÁRIA'!B4:F4 -> 45936 | G4: =BDI!D21 -> 0.2624
A5: RESUMO ORÇAMENTO
A7: ITEM | B7: DESCRIÇÃO | F7: VALORES TOTAIS | G7: PESO
A8: 1.0 | B8: ='PLANILHA ORÇAMENTÁRIA'!D7 -> ADMINISTRAÇÃO DE OBRA | F8: ='PLANILHA ORÇAMENTÁRIA'!I7 -> 16846.68 | G8: =(F8/$F$19) -> 0.03082727
A9: 2.0 | B9: ='PLANILHA ORÇAMENTÁRIA'!D9 -> SERVIÇOS PRELIMINARES | F9: ='PLANILHA ORÇAMENTÁRIA'!I9 -> 9282.4871 | G9: =(F9/$F$19) -> 0.016985764
A10: 3.0 | B10: ='PLANILHA ORÇAMENTÁRIA'!D23 -> ESTRUTURA DE CONCRETO ARMADO | F10: ='PLANILHA ORÇAMENTÁRIA'!I23 -> 18104.32 | G10: =(F10/$F$19) -> 0.03312859
A11: 4.0 | B11: ='PLANILHA ORÇAMENTÁRIA'!D28 -> ESQUADRIAS | F11: ='PLANILHA ORÇAMENTÁRIA'!I28 -> 42447.3 | G11: =(F11/$F$19) -> 0.077673131
A12: 5.0 | B12: ='PLANILHA ORÇAMENTÁRIA'!D41 -> PISOS | F12: ='PLANILHA ORÇAMENTÁRIA'!I41 -> 82900.62 | G12: =(F12/$F$19) -> 0.15169753
A13: 6.0 | B13: ='PLANILHA ORÇAMENTÁRIA'!D52 -> PINTURAS E REVESTIMENTOS | F13: ='PLANILHA ORÇAMENTÁRIA'!I52 -> 26921.27 | G13: =(F13/$F$19) -> 0.049262481
A14: 7.0 | B14: ='PLANILHA ORÇAMENTÁRIA'!D60 -> COBERTURAS | F14: ='PLANILHA ORÇAMENTÁRIA'!I60 -> 8492.86 | G14: =(F14/$F$19) -> 0.015540848
A15: 8.0 | B15: ='PLANILHA ORÇAMENTÁRIA'!D63 -> FECHAMENTO E EQUIPAMENTOS | F15: ='PLANILHA ORÇAMENTÁRIA'!I63 -> 77750.14 | G15: =(F15/$F$19) -> 0.14227281
A16: 9.0 | B16: ='PLANILHA ORÇAMENTÁRIA'!D80 -> INSTALAÇÕES HIDROSSANITÁRIAS | F16: ='PLANILHA ORÇAMENTÁRIA'!I80 -> 25352.63 | G16: =(F16/$F$19) -> 0.046392071
A17: 10.0 | B17: ='PLANILHA ORÇAMENTÁRIA'!D118 -> INSTALAÇÕES ELÉTRICAS | F17: ='PLANILHA ORÇAMENTÁRIA'!I118 -> 168246.53 | G17: =(F17/$F$19) -> 0.30786963
A18: 11.0 | B18: ='PLANILHA ORÇAMENTÁRIA'!D161 -> SERVIÇOS COMPLEMENTARES | F18: ='PLANILHA ORÇAMENTÁRIA'!I161 -> 70141.44 | G18: =(F18/$F$19) -> 0.12834987
B19: TOTAL | F19: =SUM(F8:F18) -> 546486.28 | G19: =SUM(G8:G18) -> 1
A20: RESPONSÁVEL TÉCNICO ORÇAMENTISTA
F22: OBSERVAÇÕES:
A24: JOÃO GUSTAVO FARIA DOS SANTOS JÚNIOR
A25: ENG. CIVIL - CREA Nº 64045506/SP

Sheet PLANILHA
A1: Obra: | B1: Construção de rede de drenagem pluvial | G1: BASE DE PREÇOS
A2: Proprietário: | B2: Prefeitura Municipal de Indiavaí
A3: Local: | B3: Avenida Governador Jayme Campos | G3: Não desonerado | I3: BDI
A4: Data: | B4: 30 de julho de 2021 | G4: SINAPI 06/2021 | H4: SICRO JAN/2021 | I4: =BDI!D21/100 -> 0.002624
A5: PLANILHA ORÇAMENTÁRIA
A6: BASE DE PREÇO | B6: Item | C6: Código | D6: Descrição | E6: Unid. | F6: Quant. | G6: Preço unitário (R$) | H6: Preço unitário BDI (R$) | I6: Valor final (R$)
B7: 1.0 | D7: SERVIÇOS PRELIMINARES | I7: =SUM(I8:I12) -> #REF!
A8: COMP. PRÓPRIA | B8: 1.1 | C8: COMP.001 | D8: PLACA DE OBRA EM CHAPA DE ACO GALVANIZADO | E8: m² | F8: 3 | G8: =#REF! -> #REF! | H8: =G8+(G8*$I$4) -> #REF! | I8: =H8*F8 -> #REF!
A9: SINAPI | B9: 1.2 | C9: 93584 | D9: EXECUÇÃO DE DEPÓSITO EM CANTEIRO DE OBRA EM CHAPA DE MADEIRA COMPENSADA, NÃO INCLUSO MOBILIÁRIO. AF_04/2016 | E9: m² | F9: 6 | G9: 650.95 | H9: =G9+(G9*$I$4) -> 652.65809 | I9: =H9*F9 -> 3915.9486
A10: SINAPI | B10: 1.3 | C10: 99063 | D10: LOCAÇÃO DE REDE DE ÁGUA OU ESGOTO. AF_10/2018 | E10: m | F10: 6 | G10: 3.55 | H10: =G10+(G10*$I$4) -> 3.5593152 | I10: =H10*F10 -> 21.355891
D11: ADMINISTRAÇÃO DA OBRA
A12: COMP. PRÓPRIA | B12: 1.4 | C12: COMP.002 | D12: =#REF! -> #REF! | E12: mês | F12: 3 | G12: =#REF! -> #REF! | H12: =G12+(G12*$I$4) -> #REF! | I12: =H12*F12 -> #REF!
B13: 2.0 | D13: MOVIMENTAÇÃO DE TERRA | I13: =SUM(I14:I21) -> 111628.34
A14: SINAPI | B14: 2.1 | C14: 90084 | D14: ESCAVAÇÃO MECANIZADA DE VALA COM PROF. MAIOR QUE 1,5 M ATÉ 3,0 M (MÉDIA ENTRE MONTANTE E JUSANTE/UMA COMPOSIÇÃO POR TRECHO), COM ESCAVADEIRA HIDRÁULICA (0,8 M3/111 HP), LARGURA ATÉ 1,5 M, EM SOLO DE 1A CATEGORIA, EM LOCAIS COM ALTO NÍVEL DE INTERFERÊNCIA. AF_02/2021 | E14: m³ | F14: =('CÁLCULO DE VOL E ESC REDE PRIN.'!J19+'CAL VOL. REDE COL.'!J33+'CALC. VOL PV'!J19+'CALC. VOL BL'!J10)-F15 -> 2359.395 | G14: 7.61 | H14: =G14+(G14*$I$4) -> 7.6299686 | I14: =H14*F14 -> 18002.11
A15: SINAPI | B15: 2.2 | C15: 102278 | D15: ESCAVAÇÃO MECANIZADA DE VALA COM PROF. MAIOR QUE 1,50 M ATÉ 3,0 M (MÉDIA ENTRE MONTANTE E JUSANTE/UMA COMPOSIÇÃO POR TRECHO), COM ESCAVADEIRA HIDRÁULICA (1,2 M3/155 HP), LARG. DE 1,5 M A 2,5 M, EM SOLO DE 1A CATEGORIA, EM LOCAIS COM ALTO NÍVEL DE INTERFERÊNCIA. AF_02/2021 | E15: m³ | F15: =SUM('CÁLCULO DE VOL E ESC REDE PRIN.'!J15:J18) -> 843.9065 | G15: 6.93 | H15: =G15+(G15*$I$4) -> 6.9481843 | I15: =H15*F15 -> 5863.6179
A16: SINAPI | B16: 2.3 | C16: 101572 | D16: ESCORAMENTO DE VALA, TIPO PONTALETEAMENTO, COM PROFUNDIDADE DE 1,5 A 3,0 M, LARGURA MENOR QUE 1,5 M. AF_08/2020 | E16: m² | F16: =SUM('CÁLCULO DE VOL E ESC REDE PRIN.'!J9:J15) -> 2293.501 | G16: 12.12 | H16: =G16+(G16*$I$4) -> 12.151803 | I16: =H16*F16 -> 27870.172
A17: SINAPI | B17: 2.3 | C17: 101573 | D17: ESCORAMENTO DE VALA, TIPO PONTALETEAMENTO, COM PROFUNDIDADE DE 1,5 A 3,0 M, LARGURA MAIOR OU IGUAL A 1,5 M E MENOR QUE 2,5 M. AF_08/2020 | E17: m² | F17: =SUM('CÁLCULO DE VOL E ESC REDE PRIN.'!J15:J18) -> 843.9065 | G17: 18.28 | H17: =G17+(G17*$I$4) -> 18.327967 | I17: =H17*F17 -> 15467.09
A18: SINAPI | B18: 2.4 | C18: 101622 | D18: PREPARO DE FUNDO DE VALA COM LARGURA MENOR QUE 1,5 M, COM CAMADA DE AREIA, LANÇAMENTO MECANIZADO. AF_08/2020 | E18: m³ | F18: =SUM('CÁLCULO DE VOL E ESC REDE PRIN.'!I9:I14) -> 77 | G18: 148.11 | H18: =G18+(G18*$I$4) -> 148.49864 | I18: =H18*F18 -> 11434.395
A19: SINAPI | B19: 2.4 | C19: 101625 | D19: PREPARO DE FUNDO DE VALA COM LARGURA MAIOR OU IGUAL A 1,5 M E MENOR QUE 2,5 M, COM CAMADA DE AREIA, LANÇAMENTO MECANIZADO. AF_08/2020 | E19: m³ | F19: =SUM('CÁLCULO DE VOL E ESC REDE PRIN.'!I15:I18) -> 36.55 | G19: 120.92 | H19: =G19+(G19*$I$4) -> 121.23729 | I19: =H19*F19 -> 4431.2231
A20: SINAPI | B20: 2.5 | C20: 93361 | D20: REATERRO MECANIZADO DE VALA COM ESCAVADEIRA HIDRÁULICA (CAPACIDADE DA CAÇAMBA: 0,8 M³ / POTÊNCIA: 111 HP), LARGURA ATÉ 1,5 M, PROFUNDIDADE DE 1,5 A 3,0 M, COM SOLO DE 1ª CATEGORIA EM LOCAIS COM ALTO NÍVEL DE INTERFERÊNCIA. AF_04/2016 | E20: m³ | F20: =('CÁLCULO DE VOL E ESC REDE PRIN.'!K19+'CAL VOL. REDE COL.'!K33+'CALC. VOL PV'!K19)-F21 -> 1756.9496 | G20: 13.01 | H20: =G20+(G20*$I$4) -> 13.044138 | I20: =H20*F20 -> 22917.893
A21: SINAPI | B21: 2.5 | C21: 93362 | D21: REATERRO MECANIZADO DE VALA COM ESCAVADEIRA HIDRÁULICA (CAPACIDADE DA CAÇAMBA: 0,8 M³ / POTÊNCIA: 111 HP), LARGURA DE 1,5 A 2,5 M, PROFUNDIDADE DE 1,5 A 3,0 M, COM SOLO DE 1ª CATEGORIA EM LOCAIS COM ALTO NÍVEL DE INTERFERÊNCIA. AF_04/2016 | E21: m³ | F21: =SUM('CÁLCULO DE VOL E ESC REDE PRIN.'!K15:K18) -> 586.15382 | G21: 9.6 | H21: =G21+(G21*$I$4) -> 9.6251904 | I21: =H21*F21 -> 5641.8421
A22: 3.0 | B22: 3.0 | D22: REDE DE DRENAGEM | I22: =SUM(I25:I38) -> #REF!
D23: ASSENTAMENTO DE TUBOS
D24: REDES PRINCIPAIS
A25: SINAPI | B25: 3.1 | C25: 92226 | D25: TUBO DE CONCRETO PARA REDES COLETORAS DE ÁGUAS PLUVIAIS, DIÂMETRO DE 1000 MM, JUNTA RÍGIDA, INSTALADO EM LOCAL COM ALTO NÍVEL DE INTERFERÊNCIAS - FORNECIMENTO E ASSENTAMENTO. AF_12/2015 | E25: m | F25: =SUM('CÁLCULO DE VOL E ESC REDE PRIN.'!C9:C14) -> 638 | G25: 511.75 | H25: =G25+(G25*$I$4) -> 513.09283 | I25: =H25*F25 -> 327353.23
A26: SINAPI | B26: 3.1 | C26: 92831 | D26: TUBO DE CONCRETO PARA REDES COLETORAS DE ÁGUAS PLUVIAIS, DIÂMETRO DE 1500 MM, JUNTA RÍGIDA, INSTALADO EM LOCAL COM ALTO NÍVEL DE INTERFERÊNCIAS - FORNECIMENTO E ASSENTAMENTO. AF_12/2015 | E26: m | F26: =SUM('CÁLCULO DE VOL E ESC REDE PRIN.'!C15:C18) -> 269 | G26: 1048.59 | H26: =G26+(G26*$I$4) -> 1051.3415 | I26: =H26*F26 -> 282810.86
D27: LIGAÇÕES DE BOCA DE LOBO COM PV'S
A28: SINAPI | B28: 3.1 | C28: 92219 | D28: TUBO DE CONCRETO PARA REDES COLETORAS DE ÁGUAS PLUVIAIS, DIÂMETRO DE 400 MM, JUNTA RÍGIDA, INSTALADO EM LOCAL COM ALTO NÍVEL DE INTERFERÊNCIAS - FORNECIMENTO E ASSENTAMENTO. AF_12/2015= | E28: m | F28: =SUM('CAL VOL. REDE COL.'!C9:C32) -> 333.82 | G28: 150.04 | H28: =G28+(G28*$I$4) -> 150.4337 | I28: =H28*F28 -> 50217.779
D29: DISPOSITIVOS DE DRENAGEM
D30: DISPOSITIVOS COLETORES - BOCA DE LOBO
A31: SICRO | B31: 3.2 | C31: 2003618 | D31: Boca de lobo simples - BLS 01 - areia e brita comerciais | E31: unid | F31: 24 | G31: 737.21 | H31: =G31+(G31*$I$4) -> 739.14444 | I31: =H31*F31 -> 17739.467
D32: POÇOS DE VISITA
A33: SICRO | B33: 3.4 | C33: 2003684 | D33: Poço de visita - PVI 04 - areia e brita comerciais | E33: unid | F33: 5 | G33: 2250.51 | H33: =G33+(G33*$I$4) -> 2256.4153 | I33: =H33*F33 -> 11282.077
A34: SICRO | B34: 3.5 | C34: 2003688 | D34: Poço de visita - PVI 06 - areia e brita comerciais | E34: unid | F34: 5 | G34: 3311.33 | H34: =G34+(G34*$I$4) -> 3320.0189 | I34: =H34*F34 -> 16600.095
A35: SINAPI | B35: 3.4 | C35: 98051 | D35: CHAMINÉ CIRCULAR PARA POÇO DE VISITA PARA ESGOTO, EM ALVENARIA COM TIJOLOS CERÂMICOS MACIÇOS, DIÂMETRO INTERNO = 0,6 M. AF_12/2020 | E35: m | F35: =SUM('CALC. VOL PV'!I9:I18) -> 9.08 | G35: 749.73 | H35: =G35+(G35*$I$4) -> 751.69729 | I35: =H35*F35 -> 6825.4114
A36: 3.5 | B36: 3.5 | C36: COMP. 003 | D36: TAMPÃO FOFO ARTICULADO D=600 MM, INSTALADO EM CHAMINÉ PARA DE POÇO DE VISITA | E36: unid | F36: 10 | G36: =#REF! -> #REF! | H36: =G36+(G36*$I$4) -> #REF! | I36: =H36*F36 -> #REF!
D37: DISSIPADORES DE ENERGIA
A38: SICRO | C38: 2003461 | D38: Dissipador de energia - DEB 07 - areia e pedra de mão comerciais | E38: unid | F38: 1 | G38: 4073.49 | H38: =G38+(G38*$I$4) -> 4084.1788 | I38: =H38*F38 -> 4084.1788
A39: 4.0 | B39: 4.0 | D39: TRANSPORTE | I39: =SUM(I40:I43) -> 8585.1134
D40: TRANSPORTE DE AREIA
...

Sheet COMPOSIÇÕES
A1: =PLANILHA!A1 -> Obra: | B1: =PLANILHA!B1 -> Construção de rede de drenagem pluvial
A2: =PLANILHA!A2 -> Proprietário: | B2: =PLANILHA!B2 -> Prefeitura Municipal de Indiavaí
A3: =PLANILHA!A3 -> Local: | B3: =PLANILHA!B3 -> Avenida Governador Jayme Campos
A4: =PLANILHA!A4 -> Data: | B4: =PLANILHA!B4 -> 30 de julho de 2021
A6: COMPOSIÇÃO 001
A7: PLACA DE OBRA EM CHAPA DE ACO GALVANIZADO | D7: M²
A8: SINAPI | B8: CÓDIGO | C8: DESCRIÇÃO | D8: UNID | E8: COEFICIENTE | F8: VALOR UNIT (R$) | G8: VALOR (R$)
A9: INSUMO | B9: 4417 | C9: SARRAFO DE MADEIRA NAO APARELHADA *2,5 X 7* CM, MACARANDUBA, ANGELIM OU EQUIVALENTE DA REGIAO | D9: M | E9: 1,0000000 | F9: 4.1 | G9: =F9*E9 -> 4.1
A10: INSUMO | B10: 4491 | C10: PONTALETE DE MADEIRA NAO APARELHADA *7,5 X 7,5* CM (3 X 3 ") PINUS, MISTA OU EQUIVALENTE DA REGIAO | D10: M | E10: 4,0000000 | F10: 8.14 | G10: =F10*E10 -> 32.56
A11: INSUMO | B11: 4813 | C11: PLACA DE OBRA (PARA CONSTRUCAO CIVIL) EM CHAPA GALVANIZADA *N. 22*, DE *2,0 X 1,125* M | D11: M2 | E11: 1,0000000 | F11: 225 | G11: =F11*E11 -> 225
A12: INSUMO | B12: 5075 | C12: PREGO DE ACO POLIDO COM CABECA 18 X 30 (2 3/4 X 10) | D12: KG | E12: 0,1100000 | F12: 18.31 | G12: =F12*E12 -> 2.0141
A13: COMPOSICAO | B13: 88262 | C13: CARPINTEIRO DE FORMAS COM ENCARGOS COMPLEMENTARES | D13: H | E13: 1,0000000 | F13: 19.65 | G13: =F13*E13 -> 19.65
A14: COMPOSICAO | B14: 88316 | C14: SERVENTE COM ENCARGOS COMPLEMENTARES | D14: H | E14: 2,0000000 | F14: 15.65 | G14: =F14*E14 -> 31.3
A15: COMPOSICAO | B15: 94962 | C15: CONCRETO MAGRO PARA LASTRO, TRAÇO 1:4,5:4,5 (CIMENTO/ AREIA MÉDIA/ BRITA 1) - PREPARO MECÂNICO COM BETONEIRA 400 L. AF_07/2016 | D15: M3 | E15: 0,0100000 | F15: 302.63 | G15: =F15*E15 -> 3.0263
F16: TOTAL: | G16: =TRUNC(G14+G15+G13+G12+G11+G10+G9,2) -> 317.65
A18: COMPOSIÇÃO 002
A19: ADMINISTRAÇÃO DA OBRA | D19: MÊS
A20: SINAPI | B20: ITEM | C20: DESCRIÇÃO | E20: COEFICIENTE | F20: VALOR UNIT (R$) | G20: VALOR (R$)
A21: COMPOSICAO | B21: 90778 | C21: ENGENHEIRO CIVIL DE OBRA PLENO COM ENCARGOS COMPLEMENTARES | D21: H | E21: 8 | F21: 105.29 | G21: =F21*E21 -> 842.32
A22: COMPOSICAO | B22: 90776 | C22: ENCARREGADO GERAL COM ENCARGOS COMPLEMENTARES | D22: H | E22: 80 | F22: 23.11 | G22: =F22*E22 -> 1848.8
A23: COMPOSICAO | B23: 90781 | C23: TOPOGRAFO COM ENCARGOS COMPLEMENTARES | D23: H | E23: 16 | F23: 17.1 | G23: =F23*E23 -> 273.6
F24: TOTAL: | G24: =SUM(G21:G23) -> 2964.72
A26: COMPOSIÇÃO 003
A27: TAMPÃO FOFO ARTICULADO PARA CHAMINÉ DE POÇO DE VISITA | D27: UN
A28: SINAPI | B28: ITEM | C28: DESCRIÇÃO | E28: COEFICIENTE | F28: VALOR UNIT (R$) | G28: VALOR (R$)
A29: INSUMO | B29: 11301 | C29: TAMPAO FOFO ARTICULADO, CLASSE B125 CARGA MAX 12,5 T, REDONDO TAMPA 600 MM, REDE PLUVIAL/ESGOTO | D29: UNID | E29: 1 | F29: 660.46 | G29: =F29*E29 -> 660.46
A30: COMPOSICAO | B30: 88309 | C30: PEDREIRO COM ENCARGOS COMPLEMENTARES | D30: H | E30: 1.5 | F30: 19.86 | G30: =F30*E30 -> 29.79
A31: COMPOSICAO | B31: 88316 | C31: SERVENTE COM ENCARGOS COMPLEMENTARES | D31: H | E31: 1.5 | F31: 15.65 | G31: =F31*E31 -> 23.475
A32: COMPOSICAO | B32: 87316 | C32: ARGAMASSA TRAÇO 1:4 (EM VOLUME DE CIMENTO E AREIA GROSSA ÚMIDA) PARA CHAPISCO CONVENCIONAL, PREPARO MECÂNICO COM BETONEIRA 400 L. AF_08/2019 | D32: M³ | E32: 0.0075 | F32: 367.04 | G32: =F32*E32 -> 2.7528
F33: TOTAL: | G33: =SUM(G29:G30) -> 690.25
A35: RESPONSÁVEL TÉCNICO ORÇAMENTISTA | D35: OBSERVAÇÕES:
A39: JOÃO GUSTAVO FARIA DOS SANTOS JÚNIOR
A40: ENG. CIVIL - CREA Nº 5064045506

Sheet CRONOGRAMA
A1: Obra: | B1: =PLANILHA!B1 -> Construção de rede de drenagem pluvial
A2: Proprietário: | B2: =PLANILHA!B2 -> Prefeitura Municipal de Indiavaí
A3: Local: | B3: =PLANILHA!B3 -> Avenida Governador Jayme Campos
A4: Data: | B4: =DESCRIÇÃO!B4 -> 30 de julho de 2021
A5: CRONOGRAMA FÍSICO FINANCEIRO
A6: ITEM | B6: DESCRIÇÃO/ETAPA | C6: PERÍODO | E6: À EXECUTAR
E7: MÊS 01 | G7: MÊS 02 | I7: MÊS 03 | K7: TOTAL
C8: Valor (R$) | D8: % | E8: Valor (R$) | F8: % | G8: Valor (R$) | H8: % | I8: Valor (R$) | J8: % | K8: %
A9: =DESCRIÇÃO!A8 -> 1.0 | B9: =DESCRIÇÃO!B8 -> SERVIÇOS PRELIMINARES | C9: =DESCRIÇÃO!F8 -> #REF! | D9: =(C9/$C$13)*100 -> #REF! | E9: =C9*(F9/100) -> #REF! | F9: 100 | G9: =C9*(H9/100) -> #REF! | H9: 0 | I9: =C9*(J9/100) -> #REF! | J9: 0 | K9: =F9+H9+J9 -> 100
A10: =DESCRIÇÃO!A9 -> 2.0 | B10: =DESCRIÇÃO!B9 -> MOVIMENTAÇÃO DE TERRA | C10: =DESCRIÇÃO!F9 -> 111628.34 | D10: =(C10/$C$13)*100 -> #REF! | E10: =C10*(F10/100) -> 0 | F10: 0 | G10: =C10*(H10/100) -> 111628.34 | H10: 100 | I10: =C10*(J10/100) -> 0 | J10: 0 | K10: =F10+H10+J10 -> 100
A11: =DESCRIÇÃO!A10 -> 3.0 | B11: =DESCRIÇÃO!B10 -> REDE DE DRENAGEM | C11: =DESCRIÇÃO!F10 -> #REF! | D11: =(C11/$C$13)*100 -> #REF! | E11: =C11*(F11/100) -> #REF! | F11: 0 | G11: =C11*(H11/100) -> #REF! | H11: 100 | I11: =C11*(J11/100) -> #REF! | J11: 0 | K11: =F11+H11+J11 -> 100
A12: =DESCRIÇÃO!A11 -> 4.0 | B12: =DESCRIÇÃO!B11 -> TRANSPORTE | C12: =DESCRIÇÃO!F11 -> 8585.1134 | D12: =(C12/$C$13)*100 -> #REF! | E12: =C12*(F12/100) -> 0 | F12: 0 | G12: =C12*(H12/100) -> 0 | H12: 0 | I12: =C12*(J12/100) -> 8585.1134 | J12: 100 | K12: =F12+H12+J12 -> 100
B13: VALOR TOTAL | C13: =SUM(C9:C12) -> #REF! | D13: =SUM(D9:D12) -> #REF! | E13: =SUM(E9:E12) -> #REF! | F13: =(E13/C13)*100 -> #REF! | G13: =SUM(G9:G12) -> #REF! | H13: =(G13/C13)*100 -> #REF! | I13: =SUM(I9:I12) -> #REF! | J13: =(I13/C13)*100 -> #REF! | K13: =H13+F13+J13 -> #REF!
B14: VALOR ACUMULADO | E14: =SUM(E9:E13)/2 -> #REF! | F14: =F13 -> #REF! | G14: =E13+G13 -> #REF! | H14: =H13+F14 -> #REF! | I14: =G14+I13 -> #REF! | J14: =J13+H14 -> #REF!
A15: RESPONSÁVEL TÉCNICO ORÇAMENTISTA | D15: CONTRATANTE | G15: OBSERVAÇÕES:
A19: JOÃO GUSTAVO FARIA DOS SANTOS JÚNIOR | D19: PREFEITURA MUNICIPAL DE INDIAVAÍ
A20: ENG. CIVIL - CREA Nº 5064045506 | D20: PREFEITO MUNICIPAL

Sheet PLANILHA ORÇAMENTÁRIA
A1: Obra: | B1: REFORMA DE PISTA DE ATLETISMO | G1: BASE DE PREÇOS
A2: Proprietário: | B2: Prefeitura Municipal de São José dos Quatro Marcos
A3: Local: | B3: ZONA URBANA | G3: Não desonerado | I3: BDI - SERVIÇOS
A4: Data: | B4: =TODAY() -> 45936 | G4: SINAPI 04/2025 | I4: =BDI!D21 -> 0.2624
A5: PLANILHA ORÇAMENTÁRIA
A6: BASE DE PREÇO | B6: Item | C6: Código | D6: Descrição | E6: Unid. | F6: Quant. | G6: Preço unitário (R$) | H6: Preço unitário BDI (R$) | I6: Valor final (R$)
B7: 1.0 | D7: ADMINISTRAÇÃO DE OBRA | I7: =I8 -> 16846.68
A8: COMP. PRÓPRIA | B8: 1.1 | C8: COMP.001 | D8: ADMINISTRAÇÃO LOCAL DE OBRA | E8: unid | F8: 1 | G8: ='COMPOSIÇÕES E COTAÇÕES'!G14 -> 13344.96 | H8: =ROUND(G8+(G8*$I$4),2) -> 16846.68 | I8: =TRUNC(H8*F8,2) -> 16846.68
B9: 2.0 | D9: SERVIÇOS PRELIMINARES | I9: =SUM(I11:I22) -> 9282.4871
D10: PLACA DE OBRA - DIMENSÃO 3,6 M X 1,8 M
A11: SINAPI - SERVIÇO | B11: 2.1 | C11: 103689 | D11: =VLOOKUP(C11,SINAPI!A:D,2,0) -> FORNECIMENTO E INSTALAÇÃO DE PLACA DE OBRA COM CHAPA GALVANIZADA E ESTRUTURA DE MADEIRA. AF_03/2022_PS | E11: =VLOOKUP(C11,SINAPI!A:D,3,0) -> M2 | F11: 6.48 | G11: =VLOOKUP(C11,SINAPI!A:D,4,0) -> 463.63 | H11: =ROUND(G11+(G11*$I$4),2) -> 585.29 | I11: =ROUND(H11*F11,2) -> 3792.68
D12: DEMOLIÇÕES, RETIRADAS E ADEQUAÇÕES
A13: SINAPI - SERVIÇO | B13: 2.2 | C13: 97622 | D13: =VLOOKUP(C13,SINAPI!A:D,2,0) -> DEMOLIÇÃO DE ALVENARIA DE BLOCO FURADO, DE FORMA MANUAL, SEM REAPROVEITAMENTO. AF_09/2023 | E13: =VLOOKUP(C13,SINAPI!A:D,3,0) -> M3 | F13: 6.93 | G13: =VLOOKUP(C13,SINAPI!A:D,4,0) -> 55.82 | H13: =ROUND(G13+(G13*$I$4),2) -> 70.47 | I13: =(H13*F13) -> 488.3571
A14: SINAPI - SERVIÇO | B14: 2.3 | C14: 97634 | D14: =VLOOKUP(C14,SINAPI!A:D,2,0) -> DEMOLIÇÃO DE REVESTIMENTO CERÂMICO, DE FORMA MECANIZADA COM MARTELETE, SEM REAPROVEITAMENTO. AF_09/2023 | E14: =VLOOKUP(C14,SINAPI!A:D,3,0) -> M2 | F14: 93.4 | G14: =VLOOKUP(C14,SINAPI!A:D,4,0) -> 6.26 | H14: =ROUND(G14+(G14*$I$4),2) -> 7.9 | I14: =TRUNC(H14*F14,2) -> 737.86
A15: SINAPI - SERVIÇO | B15: 2.4 | C15: 97663 | D15: =VLOOKUP(C15,SINAPI!A:D,2,0) -> REMOÇÃO DE LOUÇAS, DE FORMA MANUAL, SEM REAPROVEITAMENTO. AF_09/2023 | E15: =VLOOKUP(C15,SINAPI!A:D,3,0) -> UN | F15: 6 | G15: =VLOOKUP(C15,SINAPI!A:D,4,0) -> 12.49 | H15: =ROUND(G15+(G15*$I$4),2) -> 15.77 | I15: =TRUNC(H15*F15,2) -> 94.62
A16: SINAPI - SERVIÇO | B16: 2.5 | C16: 97666 | D16: =VLOOKUP(C16,SINAPI!A:D,2,0) -> REMOÇÃO DE METAIS SANITÁRIOS, DE FORMA MANUAL, SEM REAPROVEITAMENTO. AF_09/2023 | E16: =VLOOKUP(C16,SINAPI!A:D,3,0) -> UN | F16: 4 | G16: =VLOOKUP(C16,SINAPI!A:D,4,0) -> 9.1 | H16: =ROUND(G16+(G16*$I$4),2) -> 11.49 | I16: =TRUNC(H16*F16,2) -> 45.96
A17: SINAPI - SERVIÇO | B17: 2.6 | C17: 97645 | D17: =VLOOKUP(C17,SINAPI!A:D,2,0) -> REMOÇÃO DE JANELAS, DE FORMA MANUAL, SEM REAPROVEITAMENTO. AF_09/2023 | E17: =VLOOKUP(C17,SINAPI!A:D,3,0) -> M2 | F17: 1.5 | G17: =VLOOKUP(C17,SINAPI!A:D,4,0) -> 24.21 | H17: =ROUND(G17+(G17*$I$4),2) -> 30.56 | I17: =TRUNC(H17*F17,2) -> 45.84
A18: SINAPI - SERVIÇO | B18: 2.7 | C18: 97644 | D18: =VLOOKUP(C18,SINAPI!A:D,2,0) -> REMOÇÃO DE PORTAS, DE FORMA MANUAL, SEM REAPROVEITAMENTO. AF_09/2023 | E18: =VLOOKUP(C18,SINAPI!A:D,3,0) -> M2 | F18: 11.76 | G18: =VLOOKUP(C18,SINAPI!A:D,4,0) -> 9.36 | H18: =ROUND(G18+(G18*$I$4),2) -> 11.82 | I18: =TRUNC(H18*F18,2) -> 139
D19: CONSTRUÇÕES DE ALVENARIA - FECHAMENTOS E DIVISÕES
A20: SINAPI - SERVIÇO | B20: 2.8 | C20: 103324 | D20: =VLOOKUP(C20,SINAPI!A:D,2,0) -> ALVENARIA DE VEDAÇÃO DE BLOCOS CERÂMICOS FURADOS NA VERTICAL DE 14X19X39 CM (ESPESSURA 14 CM) E ARGAMASSA DE ASSENTAMENTO COM PREPARO EM BETONEIRA. AF_12/2021 | E20: =VLOOKUP(C20,SINAPI!A:D,3,0) -> M2 | F20: 16.95 | G20: =VLOOKUP(C20,SINAPI!A:D,4,0) -> 86.17 | H20: =ROUND(G20+(G20*$I$4),2) -> 108.78 | I20: =ROUND(H20*F20,2) -> 1843.82
A21: SINAPI - SERVIÇO | B21: 2.9 | C21: 87893 | D21: =VLOOKUP(C21,SINAPI!A:D,2,0) -> CHAPISCO APLICADO EM ALVENARIA (SEM PRESENÇA DE VÃOS) E ESTRUTURAS DE CONCRETO DE FACHADA, COM COLHER DE PEDREIRO. ARGAMASSA TRAÇO 1:3 COM PREPARO MANUAL. AF_10/2022 | E21: =VLOOKUP(C21,SINAPI!A:D,3,0) -> M2 | F21: 33.9 | G21: =VLOOKUP(C21,SINAPI!A:D,4,0) -> 7.48 | H21: =ROUND(G21+(G21*$I$4),2) -> 9.44 | I21: =ROUND(H21*F21,2) -> 320.02
A22: SINAPI - SERVIÇO | B22: 2.10 | C22: 87792 | D22: =VLOOKUP(C22,SINAPI!A:D,2,0) -> EMBOÇO OU MASSA ÚNICA EM ARGAMASSA TRAÇO 1:2:8, PREPARO MECÂNICO COM BETONEIRA 400 L, APLICADA MANUALMENTE EM PANOS CEGOS DE FACHADA (SEM PRESENÇA DE VÃOS), ESPESSURA DE 25 MM. AF_08/2022 | E22: =VLOOKUP(C22,SINAPI!A:D,3,0) -> M2 | F22: 33.9 | G22: =VLOOKUP(C22,SINAPI!A:D,4,0) -> 41.46 | H22: =ROUND(G22+(G22*$I$4),2) -> 52.34 | I22: =ROUND(H22*F22,2) -> 1774.33
B23: 3.0 | D23: ESTRUTURA DE CONCRETO ARMADO | I23: =SUM(I24:I27) -> 18104.32
D24: MURETA EM CONCRETO PARA CAIXA DE AREIA - QUADRAS E FUNDAÇÃO DE PILARES METÁLICO DE QUADRA
A25: SINAPI - SERVIÇO | B25: 3.1 | C25: 96527 | D25: =VLOOKUP(C25,SINAPI!A:D,2,0) -> ESCAVAÇÃO MANUAL PARA VIGA BALDRAME OU SAPATA CORRIDA (INCLUINDO ESCAVAÇÃO PARA COLOCAÇÃO DE FÔRMAS). AF_01/2024 | E25: =VLOOKUP(C25,SINAPI!A:D,3,0) -> M3 | F25: 3.87 | G25: =VLOOKUP(C25,SINAPI!A:D,4,0) -> 100.91 | H25: =ROUND(G25+(G25*$I$4),2) -> 127.39 | I25: =ROUND(H25*F25,2) -> 493
A26: SINAPI - SERVIÇO | B26: 3.2 | C26: 96536 | D26: =VLOOKUP(C26,SINAPI!A:D,2,0) -> FABRICAÇÃO, MONTAGEM E DESMONTAGEM DE FÔRMA PARA VIGA BALDRAME, EM MADEIRA SERRADA, E=25 MM, 4 UTILIZAÇÕES. AF_01/2024 | E26: =VLOOKUP(C26,SINAPI!A:D,3,0) -> M2 | F26: 103.2 | G26: =VLOOKUP(C26,SINAPI!A:D,4,0) -> 73.3 | H26: =ROUND(G26+(G26*$I$4),2) -> 92.53 | I26: =ROUND(H26*F26,2) -> 9549.1
A27: COMP. PRÓPRIA | B27: 3.3 | C27: COMP. 002 | D27: CONCRETAGEM DE BLOCOS DE COROAMENTO E VIGAS BALDRAMES, FCK 25 MPA, COM USO DE BOMBA - LANÇAMENTO, ADENSAMENTO E ACABAMENTO. | E27: m³ | F27: 7.74 | G27: ='COMPOSIÇÕES E COTAÇÕES'!G25 -> 825.12 | H27: =ROUND(G27+(G27*$I$4),2) -> 1041.63 | I27: =ROUND(H27*F27,2) -> 8062.22
B28: 4.0 | D28: ESQUADRIAS | I28: =SUM(I29:I40) -> 42447.3
D29: PORTÕES QUADRAS
A30: SINAPI - SERVIÇO | B30: 4.1 | C30: COMP. 003 | D30: Portão em tubo de ferro galvanizado de 2", de abrir, tela malha revestida 76 x 76mm, n.º 12, inclusive dobradiças e trancas/ferrolho - Rev 01_01/2022 | E30: m² | F30: 10.08 | G30: ='COMPOSIÇÕES E COTAÇÕES'!G52 -> 700 | H30: =ROUND(G30+(G30*$I$4),2) -> 883.68 | I30: =ROUND(H30*F30,2) -> 8907.49
D31: VERGAS E CONTRAVERGAS
A32: SINAPI - SERVIÇO | B32: 4.2 | C32: 93187 | D32: =VLOOKUP(C32,SINAPI!A:D,2,0) -> VERGA MOLDADA IN LOCO EM CONCRETO, ESPESSURA DE *20* CM. AF_03/2024 | E32: =VLOOKUP(C32,SINAPI!A:D,3,0) -> M | F32: 31.36 | G32: =VLOOKUP(C32,SINAPI!A:D,4,0) -> 77.11 | H32: =ROUND(G32+(G32*$I$4),2) -> 97.34 | I32: =ROUND(H32*F32,2) -> 3052.58
A33: SINAPI - SERVIÇO | B33: 4.3 | C33: 93197 | D33: =VLOOKUP(C33,SINAPI!A:D,2,0) -> CONTRAVERGA MOLDADA IN LOCO EM CONCRETO, ESPESSURA DE *20* CM. AF_03/2024 | E33: =VLOOKUP(C33,SINAPI!A:D,3,0) -> M | F33: 26.88 | G33: =VLOOKUP(C33,SINAPI!A:D,4,0) -> 58.9 | H33: =ROUND(G33+(G33*$I$4),2) -> 74.36 | I33: =ROUND(H33*F33,2) -> 1998.8
D34: PORTAS DE ACESSO A VESTIÁRIOS E DEPÓSITO
A35: SINAPI - SERVIÇO | B35: 4.5 | C35: 90845 | D35: =VLOOKUP(C35,SINAPI!A:D,2,0) -> KIT DE PORTA DE MADEIRA PARA PINTURA, SEMI-OCA (PESADA OU SUPERPESADA), PADRÃO MÉDIO, 80X210CM, ESPESSURA DE 3,5CM, ITENS INCLUSOS: DOBRADIÇAS, MONTAGEM E INSTALAÇÃO DO BATENTE, FECHADURA COM EXECUÇÃO DO FURO - FORNECIMENTO E INSTALAÇÃO. AF_12/2019 | E35: =VLOOKUP(C35,SINAPI!A:D,3,0) -> UN | F35: 4 | G35: =VLOOKUP(C35,SINAPI!A:D,4,0) -> 1381.46 | H35: =ROUND(G35+(G35*$I$4),2) -> 1743.96 | I35: =ROUND(H35*F35,2) -> 6975.84
D36: PORTAS INTERNAS DE VESTIÁRIOS
A37: SINAPI - SERVIÇO | B37: 4.6 | C37: 91338 | D37: =VLOOKUP(C37,SINAPI!A:D,2,0) -> PORTA DE ALUMÍNIO DE ABRIR COM LAMBRI, COM GUARNIÇÃO, FIXAÇÃO COM PARAFUSOS - FORNECIMENTO E INSTALAÇÃO. AF_12/2019 | E37: =VLOOKUP(C37,SINAPI!A:D,3,0) -> M2 | F37: 11.2 | G37: =VLOOKUP(C37,SINAPI!A:D,4,0) -> 884.1 | H37: =ROUND(G37+(G37*$I$4),2) -> 1116.09 | I37: =ROUND(H37*F37,2) -> 12500.21
D38: JANELAS
A39: SINAPI - SERVIÇO | B39: 4.7 | C39: 94569 | D39: =VLOOKUP(C39,SINAPI!A:D,2,0) -> JANELA DE ALUMÍNIO TIPO MAXIM-AR, BATENTE/ REQUADRO 3 A 14 CM, VIDRO INCLUSO, FIXAÇÃO COM PARAFUSO, SEM GUARNIÇÃO/ ALIZAR, DIMENSÕES 60X80 (A X L) CM, SEM ACABAMENTO, VEDAÇÃO COM SILICONE, EXCLUSIVE CONTRAMARCO - FORNECIMENTO E INSTALAÇÃO. AF_11/2024 | E39: =VLOOKUP(C39,SINAPI!A:D,3,0) -> M2 | F39: 8.64 | G39: =VLOOKUP(C39,SINAPI!A:D,4,0) -> 689.6 | H39: =ROUND(G39+(G39*$I$4),2) -> 870.55 | I39: =ROUND(H39*F39,2) -> 7521.55
A40: SINAPI - SERVIÇO | B40: 4.8 | C40: 94590 | D40: =VLOOKUP(C40,SINAPI!A:D,2,0) -> CONTRAMARCO DE ALUMÍNIO, FIXAÇÃO COM PARAFUSO - FORNECIMENTO E INSTALAÇÃO. AF_11/2024 | E40: =VLOOKUP(C40,SINAPI!A:D,3,0) -> M | F40: 43.2 | G40: =VLOOKUP(C40,SINAPI!A:D,4,0) -> 27.34 | H40: =ROUND(G40+(G40*$I$4),2) -> 34.51 | I40: =ROUND(H40*F40,2) -> 1490.83
...

Sheet CRONOGRAMA FF
A1: Obra: | B1: ='COMPOSIÇÕES E COTAÇÕES'!B1:G1 -> REFORMA DE PISTA DE ATLETISMO
A2: Proprietário: | B2: ='COMPOSIÇÕES E COTAÇÕES'!B2:G2 -> Prefeitura Municipal de São José dos Quatro Marcos
A3: Local: | B3: ='COMPOSIÇÕES E COTAÇÕES'!B3:G3 -> ZONA URBANA
A4: Data: | B4: ='COMPOSIÇÕES E COTAÇÕES'!B4:G4 -> 45936
A5: CRONOGRAMA FÍSICO FINANCEIRO
A6: ITEM | B6: DESCRIÇÃO/ETAPA | C6: PERÍODO | E6: À EXECUTAR
E7: 30 DIAS | G7: 60 DIAS | I7: 90 DIAS | K7: 120 DIAS | M7: 150 DIAS | O7: TOTAL
C8: Valor (R$) | D8: % | E8: Valor (R$) | F8: % | G8: Valor (R$) | H8: % | I8: Valor (R$) | J8: % | K8: Valor (R$) | L8: % | M8: Valor (R$) | N8: % | O8: %
A9: ='DESCRIÇÃO DE ORÇAMENTO'!A8 -> 1.0 | B9: ='DESCRIÇÃO DE ORÇAMENTO'!B8:E8 -> ADMINISTRAÇÃO DE OBRA | C9: ='DESCRIÇÃO DE ORÇAMENTO'!F8 -> 16846.68 | D9: =(C9/$C$20)*100 -> 3.082727 | E9: =C9*F9 -> 3369.336 | F9: 0.2 | G9: =C9*H9 -> 3369.336 | H9: 0.2 | I9: =C9*J9 -> 3369.336 | J9: 0.2 | K9: =C9*L9 -> 3369.336 | L9: 0.2 | M9: =C9*N9 -> 3369.336 | N9: 0.2 | O9: =F9+H9+J9+L9+N9 -> 1
A10: ='DESCRIÇÃO DE ORÇAMENTO'!A9 -> 2.0 | B10: ='DESCRIÇÃO DE ORÇAMENTO'!B9:E9 -> SERVIÇOS PRELIMINARES | C10: ='DESCRIÇÃO DE ORÇAMENTO'!F9 -> 9282.4871 | D10: =(C10/$C$20)*100 -> 1.6985764 | E10: =C10*F10 -> 9282.4871 | F10: 1 | G10: =C10*H10 -> 0 | H10: 0 | I10: =C10*J10 -> 0 | J10: 0 | K10: =C10*L10 -> 0 | L10: 0 | M10: =C10*N10 -> 0 | N10: 0 | O10: =F10+H10+J10+L10+N10 -> 1
A11: ='DESCRIÇÃO DE ORÇAMENTO'!A10 -> 3.0 | B11: ='DESCRIÇÃO DE ORÇAMENTO'!B10:E10 -> ESTRUTURA DE CONCRETO ARMADO | C11: ='DESCRIÇÃO DE ORÇAMENTO'!F10 -> 18104.32 | D11: =(C11/$C$20)*100 -> 3.312859 | E11: =C11*F11 -> 18104.32 | F11: 1 | G11: =C11*H11 -> 0 | H11: 0 | I11: =C11*J11 -> 0 | J11: 0 | K11: =C11*L11 -> 0 | L11: 0 | M11: =C11*N11 -> 0 | N11: 0 | O11: =F11+H11+J11+L11+N11 -> 1
A12: ='DESCRIÇÃO DE ORÇAMENTO'!A11 -> 4.0 | B12: ='DESCRIÇÃO DE ORÇAMENTO'!B11:E11 -> ESQUADRIAS | C12: ='DESCRIÇÃO DE ORÇAMENTO'!F11 -> 42447.3 | D12: =(C12/$C$20)*100 -> 7.7673131 | E12: =C12*F12 -> 0 | F12: 0 | G12: =C12*H12 -> 0 | H12: 0 | I12: =C12*J12 -> 0 | J12: 0 | K12: =C12*L12 -> 42447.3 | L12: 1 | M12: =C12*N12 -> 0 | N12: 0 | O12: =F12+H12+J12+L12+N12 -> 1
A13: ='DESCRIÇÃO DE ORÇAMENTO'!A12 -> 5.0 | B13: ='DESCRIÇÃO DE ORÇAMENTO'!B12:E12 -> PISOS | C13: ='DESCRIÇÃO DE ORÇAMENTO'!F12 -> 82900.62 | D13: =(C13/$C$20)*100 -> 15.169753 | E13: =C13*F13 -> 0 | F13: 0 | G13: =C13*H13 -> 0 | H13: 0 | I13: =C13*J13 -> 82900.62 | J13: 1 | K13: =C13*L13 -> 0 | L13: 0 | M13: =C13*N13 -> 0 | N13: 0 | O13: =F13+H13+J13+L13+N13 -> 1
A14: ='DESCRIÇÃO DE ORÇAMENTO'!A13 -> 6.0 | B14: ='DESCRIÇÃO DE ORÇAMENTO'!B13:E13 -> PINTURAS E REVESTIMENTOS | C14: ='DESCRIÇÃO DE ORÇAMENTO'!F13 -> 26921.27 | D14: =(C14/$C$20)*100 -> 4.9262481 | E14: =C14*F14 -> 0 | F14: 0 | G14: =C14*H14 -> 0 | H14: 0 | I14: =C14*J14 -> 0 | J14: 0 | K14: =C14*L14 -> 13460.635 | L14: 0.5 | M14: =C14*N14 -> 13460.635 | N14: 0.5 | O14: =F14+H14+J14+L14+N14 -> 1
A15: ='DESCRIÇÃO DE ORÇAMENTO'!A14 -> 7.0 | B15: ='DESCRIÇÃO DE ORÇAMENTO'!B14:E14 -> COBERTURAS | C15: ='DESCRIÇÃO DE ORÇAMENTO'!F14 -> 8492.86 | D15: =(C15/$C$20)*100 -> 1.5540848 | E15: =C15*F15 -> 0 | F15: 0 | G15: =C15*H15 -> 0 | H15: 0 | I15: =C15*J15 -> 0 | J15: 0 | K15: =C15*L15 -> 8492.86 | L15: 1 | M15: =C15*N15 -> 0 | N15: 0 | O15: =F15+H15+J15+L15+N15 -> 1
A16: ='DESCRIÇÃO DE ORÇAMENTO'!A15 -> 8.0 | B16: ='DESCRIÇÃO DE ORÇAMENTO'!B15:E15 -> FECHAMENTO E EQUIPAMENTOS | C16: ='DESCRIÇÃO DE ORÇAMENTO'!F15 -> 77750.14 | D16: =(C16/$C$20)*100 -> 14.227281 | E16: =C16*F16 -> 0 | F16: 0 | G16: =C16*H16 -> 77750.14 | H16: 1 | I16: =C16*J16 -> 0 | J16: 0 | K16: =C16*L16 -> 0 | L16: 0 | M16: =C16*N16 -> 0 | N16: 0 | O16: =F16+H16+J16+L16+N16 -> 1
A17: ='DESCRIÇÃO DE ORÇAMENTO'!A16 -> 9.0 | B17: ='DESCRIÇÃO DE ORÇAMENTO'!B16:E16 -> INSTALAÇÕES HIDROSSANITÁRIAS | C17: ='DESCRIÇÃO DE ORÇAMENTO'!F16 -> 25352.63 | D17: =(C17/$C$20)*100 -> 4.6392071 | E17: =C17*F17 -> 0 | F17: 0 | G17: =C17*H17 -> 0 | H17: 0 | I17: =C17*J17 -> 0 | J17: 0 | K17: =C17*L17 -> 25352.63 | L17: 1 | M17: =C17*N17 -> 0 | N17: 0 | O17: =F17+H17+J17+L17+N17 -> 1
A18: ='DESCRIÇÃO DE ORÇAMENTO'!A17 -> 10.0 | B18: ='DESCRIÇÃO DE ORÇAMENTO'!B17:E17 -> INSTALAÇÕES ELÉTRICAS | C18: ='DESCRIÇÃO DE ORÇAMENTO'!F17 -> 168246.53 | D18: =(C18/$C$20)*100 -> 30.786963 | E18: =C18*F18 -> 0 | F18: 0 | G18: =C18*H18 -> 0 | H18: 0 | I18: =C18*J18 -> 0 | J18: 0 | K18: =C18*L18 -> 168246.53 | L18: 1 | M18: =C18*N18 -> 0 | N18: 0 | O18: =F18+H18+J18+L18+N18 -> 1
A19: ='DESCRIÇÃO DE ORÇAMENTO'!A18 -> 11.0 | B19: ='DESCRIÇÃO DE ORÇAMENTO'!B18:E18 -> SERVIÇOS COMPLEMENTARES | C19: ='DESCRIÇÃO DE ORÇAMENTO'!F18 -> 70141.44 | D19: =(C19/$C$20)*100 -> 12.834987 | E19: =C19*F19 -> 0 | F19: 0 | G19: =C19*H19 -> 0 | H19: 0 | I19: =C19*J19 -> 0 | J19: 0 | K19: =C19*L19 -> 0 | L19: 0 | M19: =C19*N19 -> 70141.44 | N19: 1 | O19: =F19+H19+J19+L19+N19 -> 1
B20: VALOR TOTAL | C20: =SUM(C9:C19) -> 546486.28 | D20: =SUM(D9:D19) -> 100 | E20: =SUM(E9:E19) -> 30756.143 | F20: =(E20/C20)*100 -> 5.6279809 | G20: =SUM(G9:G19) -> 81119.476 | H20: =(G20/C20)*100 -> 14.843827 | I20: =SUM(I9:I19) -> 86269.956 | J20: =(I20/C20)*100 -> 15.786299 | K20: =SUM(K9:K19) -> 261369.29 | L20: =(K20/C20)*100 -> 47.827238 | M20: =SUM(M9:M19) -> 86971.411 | N20: =(M20/C20)*100 -> 15.914656 | O20: 1
B21: VALOR ACUMULADO | E21: =SUM(E9:E20)/2 -> 30756.143 | F21: =F20 -> 5.6279809 | G21: =E21+G20 -> 111875.62 | H21: =H20+F21 -> 20.471808 | I21: =G21+I20 -> 198145.58 | J21: =J20+H21 -> 36.258106 | K21: =I21+K20 -> 459514.87 | L21: =L20+J21 -> 84.085344 | M21: =K21+M20 -> 546486.28 | N21: =N20+L21 -> 100
A22: RESPONSÁVEL TÉCNICO ORÇAMENTISTA | G22: OBSERVAÇÕES:
A26: JOÃO GUSTAVO FARIA DOS SANTOS JÚNIOR
A27: ENG. CIVIL - CREA Nº 64045506/SP

Sheet MEM. CÁLCULO
A1: ='[1]PLANILHA NÃO DESONERADO'!A1 -> Obra: | B1: ='PLANILHA ORÇAMENTÁRIA'!B1:F1 -> REFORMA DE PISTA DE ATLETISMO
A2: ='[1]PLANILHA NÃO DESONERADO'!A2 -> Proprietário: | B2: ='PLANILHA ORÇAMENTÁRIA'!B2:F2 -> Prefeitura Municipal de São José dos Quatro Marcos
A3: ='[1]PLANILHA NÃO DESONERADO'!A3 -> Local: | B3: ='PLANILHA ORÇAMENTÁRIA'!B3:F3 -> ZONA URBANA
A4: ='[1]PLANILHA NÃO DESONERADO'!A4 -> Data: | B4: ='PLANILHA ORÇAMENTÁRIA'!B4:F4 -> 45936
A6: MEMÓRIA DE CÁLCULO
A8: ='PLANILHA ORÇAMENTÁRIA'!B11 -> 2.1 | B8: ='PLANILHA ORÇAMENTÁRIA'!D10 -> PLACA DE OBRA - DIMENSÃO 3,6 M X 1,8 M | H8: 20
A9: LOCAL | B9: DESCRIÇÃO | C9: ÁREA | D9: TOTAL (M²) | H9: 14
A10: OBRA | B10: PLACA DE OBRA - MODELO CAIXA | C10: 3,6*1,8 | D10: =3.6*1.8 -> 6.48
A11: ='PLANILHA ORÇAMENTÁRIA'!B13 -> 2.2 | B11: ='PLANILHA ORÇAMENTÁRIA'!D13 -> DEMOLIÇÃO DE ALVENARIA DE BLOCO FURADO, DE FORMA MANUAL, SEM REAPROVEITAMENTO. AF_09/2023 | H11: 20
A12: LOCAL | B12: DESCRIÇÃO | C12: VOLUME | D12: TOTAL (M³) | H12: 14
A13: VESTIÁRIO | B13: DEMOLIÇÃO DE ALVENARIA EM VESTIÁRIO PARA ADEQUAÇÃO DE PLANTA | C13: (1,5*6*2,1*0,15)+((0,98*2,1*4-0,6*2,1*4)*0,15)+(4,59*0,15*3)+(2,1*0,8*0,15)+(1,2*0,6*0,15*12) | D13: =(1.5*6*2.1*0.15)+((0.98*2.1*4-0.6*2.1*4)*0.15)+(4.59*0.15*3)+(2.1*0.8*0.15)+(1.2*0.6*0.15*12) -> 6.9273
A14: ='PLANILHA ORÇAMENTÁRIA'!B14 -> 2.3 | B14: ='PLANILHA ORÇAMENTÁRIA'!D14 -> DEMOLIÇÃO DE REVESTIMENTO CERÂMICO, DE FORMA MECANIZADA COM MARTELETE, SEM REAPROVEITAMENTO. AF_09/2023 | H14: 20
A15: LOCAL | B15: DESCRIÇÃO | C15: VOLUME | D15: TOTAL (M²) | H15: 14
A16: VESTIÁRIO | B16: ÁREA DE PISO DEMOLIDO PARA TROCA | C16: 11,02+10,33+20,47+27,91+23,67 | D16: =11.02+10.33+20.47+27.91+23.67 -> 93.4
A17: ='PLANILHA ORÇAMENTÁRIA'!B15 -> 2.4 | B17: ='PLANILHA ORÇAMENTÁRIA'!D15 -> REMOÇÃO DE LOUÇAS, DE FORMA MANUAL, SEM REAPROVEITAMENTO. AF_09/2023 | H17: 20
A18: LOCAL | B18: DESCRIÇÃO | C18: QUANTIDADE | D18: TOTAL (UNID) | E18: DESCRITO EM PROJETO DE REFORMA DE VESTIÁRIO | H18: 14
A19: VESTIÁRIO | B19: RETIRADA DE PIAS E VASOS | C19: 6 | D19: 6
A20: ='PLANILHA ORÇAMENTÁRIA'!B16 -> 2.5 | B20: ='PLANILHA ORÇAMENTÁRIA'!D16 -> REMOÇÃO DE METAIS SANITÁRIOS, DE FORMA MANUAL, SEM REAPROVEITAMENTO. AF_09/2023 | H20: 20
A21: LOCAL | B21: DESCRIÇÃO | C21: QUANTIDADE | D21: TOTAL (UNID) | E21: DESCRITO EM PROJETO DE REFORMA DE VESTIÁRIO | H21: 14
A22: VESTIÁRIO | B22: RETIRADA DE TORNEIRAS | C22: 2 | D22: 2
A23: ='PLANILHA ORÇAMENTÁRIA'!B17 -> 2.6 | B23: ='PLANILHA ORÇAMENTÁRIA'!D17 -> REMOÇÃO DE JANELAS, DE FORMA MANUAL, SEM REAPROVEITAMENTO. AF_09/2023 | H23: 20
A24: LOCAL | B24: DESCRIÇÃO | C24: ÁREA | D24: TOTAL (M²) | H24: 14
A25: VESTIÁRIO | B25: ÁREA | C25: (1,5*1) | D25: =(1.5*1) -> 1.5
A26: ='PLANILHA ORÇAMENTÁRIA'!B18 -> 2.7 | B26: ='PLANILHA ORÇAMENTÁRIA'!D18 -> REMOÇÃO DE PORTAS, DE FORMA MANUAL, SEM REAPROVEITAMENTO. AF_09/2023 | H26: 20
A27: LOCAL | B27: DESCRIÇÃO | C27: ÁREA | D27: TOTAL (M²) | H27: 14
A28: VESTIÁRIO | B28: ÁREA | C28: (0,8*2,1*4)+(0,6*2,1*4) | D28: =(0.8*2.1*4)+(0.6*2.1*4) -> 11.76
A29: ='PLANILHA ORÇAMENTÁRIA'!B20 -> 2.8 | B29: ='PLANILHA ORÇAMENTÁRIA'!D20 -> ALVENARIA DE VEDAÇÃO DE BLOCOS CERÂMICOS FURADOS NA VERTICAL DE 14X19X39 CM (ESPESSURA 14 CM) E ARGAMASSA DE ASSENTAMENTO COM PREPARO EM BETONEIRA. AF_12/2021 | H29: 20
A30: LOCAL | B30: DESCRIÇÃO | C30: ÁREA | D30: TOTAL (M²) | H30: 14
A31: VESTIÁRIO | B31: CONSTRUÇÃO DE PAREDE NO DEPÓSITO DO BLOCO DOS VESTIÁRIOS E FECHAMENTO DE JANELAS RETIRADAS | C31: (4,59*3)+(1*1,5)+(0,8*2,1) | D31: =(4.59*3)+(1*1.5)+(0.8*2.1) -> 16.95
A32: ='PLANILHA ORÇAMENTÁRIA'!B21 -> 2.9 | B32: ='PLANILHA ORÇAMENTÁRIA'!D21 -> CHAPISCO APLICADO EM ALVENARIA (SEM PRESENÇA DE VÃOS) E ESTRUTURAS DE CONCRETO DE FACHADA, COM COLHER DE PEDREIRO. ARGAMASSA TRAÇO 1:3 COM PREPARO MANUAL. AF_10/2022 | H32: 20
A33: LOCAL | B33: DESCRIÇÃO | C33: ÁREA | D33: TOTAL (M²) | H33: 14
A34: VESTIÁRIO | B34: CONSTRUÇÃO DE PAREDE NO DEPÓSITO DO BLOCO DOS VESTIÁRIOS E FECHAMENTO DE JANELAS RETIRADAS | C34: ((4,59*3)+(1*1,5)+(1*1))*2 | D34: =((4.59*3)+(1*1.5)+(1*1))*2 -> 32.54
A35: ='PLANILHA ORÇAMENTÁRIA'!B22 -> 2.10 | B35: ='PLANILHA ORÇAMENTÁRIA'!D22 -> EMBOÇO OU MASSA ÚNICA EM ARGAMASSA TRAÇO 1:2:8, PREPARO MECÂNICO COM BETONEIRA 400 L, APLICADA MANUALMENTE EM PANOS CEGOS DE FACHADA (SEM PRESENÇA DE VÃOS), ESPESSURA DE 25 MM. AF_08/2022 | H35: 20
A36: LOCAL | B36: DESCRIÇÃO | C36: ÁREA | D36: TOTAL (M²) | H36: 14
A37: VESTIÁRIO | B37: CONSTRUÇÃO DE PAREDE NO DEPÓSITO DO BLOCO DOS VESTIÁRIOS E FECHAMENTO DE JANELAS RETIRADAS | C37: ((4,59*3)+(1*1,5)+(1*1))*2 | D37: =((4.59*3)+(1*1.5)+(1*1))*2 -> 32.54
A38: ='PLANILHA ORÇAMENTÁRIA'!B25 -> 3.1 | B38: ='PLANILHA ORÇAMENTÁRIA'!D25 -> ESCAVAÇÃO MANUAL PARA VIGA BALDRAME OU SAPATA CORRIDA (INCLUINDO ESCAVAÇÃO PARA COLOCAÇÃO DE FÔRMAS). AF_01/2024 | H38: 20
A39: LOCAL | B39: DESCRIÇÃO | C39: VOLUME | D39: TOTAL (M³) | H39: 14
A40: OBRA | B40: PERÍMETRO | C40: (22*2+14*2+22*2+28*2)*0,15*0,15 | D40: =(22*2+14*2+22*2+28*2)*0.15*0.15 -> 3.87
A42: ='PLANILHA ORÇAMENTÁRIA'!B26 -> 3.2 | B42: ='PLANILHA ORÇAMENTÁRIA'!D26 -> FABRICAÇÃO, MONTAGEM E DESMONTAGEM DE FÔRMA PARA VIGA BALDRAME, EM MADEIRA SERRADA, E=25 MM, 4 UTILIZAÇÕES. AF_01/2024
A43: LOCAL | B43: DESCRIÇÃO | C43: ÁREAS | D43: TOTAL (M²)
...

Sheet COTAÇÕES
A1: ='[2]PLANILHA NÃO DESONERADO'!A1 -> Obra: | B1: ='MEM. CÁLCULO'!B1:F1 -> REFORMA DE PISTA DE ATLETISMO
A2: ='[2]PLANILHA NÃO DESONERADO'!A2 -> Proprietário: | B2: ='MEM. CÁLCULO'!B2:F2 -> Prefeitura Municipal de São José dos Quatro Marcos
A3: ='[2]PLANILHA NÃO DESONERADO'!A3 -> Local: | B3: ='MEM. CÁLCULO'!B3:F3 -> ZONA URBANA
A4: ='[2]PLANILHA NÃO DESONERADO'!A4 -> Data: | B4: ='MEM. CÁLCULO'!B4:F4 -> 45936
A6: COMPOSIÇÕES GERAIS DE ORÇAMENTOS
A9: COTAÇÃO 001
A10: DATA | B10: LINK | D10: QUANT. | E10: EMPRESA | F10: TELEFONE | G10: VALOR (R$)
A11: 45796 | D11: 1 | E11: MINAS FERRO | F11: (65) 99933-2363 | G11: 14
A12: =TODAY() -> 45936 | B12: https://hiperferro.com.br/barras-e-perfis/barra-quadrada.html?srsltid=AfmBOopkbuTHnV779OWLB6B2jP8sK-GnZ8_XKbjZrZS_FNfPLzvHlZaF | C12: INICIAL CONSTRUÇÕES | D12: 1 | E12: HIPERFERRO | G12: 14.87
A13: 45796 | C13: J FREITAS ROCHA EIRELI | D13: 1 | G13: 0
F14: MEDIANA: | G14: =MEDIAN(G11:G13) -> 14
A15: COTAÇÃO 002
A16: DATA | B16: LINK | D16: QUANT. | E16: EMPRESA | F16: TELEFONE | G16: VALOR (R$)
A17: 45796 | D17: 1 | E17: MINAS FERRO | F17: (65) 99933-2363 | G17: 11
A18: =TODAY() -> 45936 | B18: https://loja.grupoacocearense.com.br/cantoneira-de-aco-1-14-6m/p?idsku=264 | C18: INICIAL CONSTRUÇÕES | D18: 1 | E18: AÇO CEARENSE | F18: (85) 4011-1600 | G18: 9.43
A19: 45796 | C19: J FREITAS ROCHA EIRELI | D19: 1 | G19: 0
F20: MEDIANA: | G20: =MEDIAN(G17:G19) -> 9.43
A21: COTAÇÃO 003
A22: DATA | B22: LINK | D22: QUANT. | E22: EMPRESA | F22: TELEFONE | G22: VALOR (R$)
A23: 45796 | D23: 1 | E23: MINAS FERRO | F23: (65) 99933-2363 | G23: 11
A24: 45796 | C24: INICIAL CONSTRUÇÕES | D24: 1 | G24: 11
A25: 45796 | C25: J FREITAS ROCHA EIRELI | D25: 1 | G25: 0
F26: MEDIANA: | G26: =MEDIAN(G23:G25) -> 11
A27: COTAÇÃO 004
A28: DATA | B28: LINK | D28: QUANT. | E28: EMPRESA | F28: TELEFONE | G28: VALOR (R$)
A29: 45796 | B29: https://www.cercasramacrisna.com.br/tela-alambrado/telas-para-construcoes-esportivas/tela-alambrado-para-quadra-esportiva-revestida-pvc-fio-12?variant_id=545&utm_source=google&utm_medium=cpc&keyword=&pht=49181588274089170&gad_source=1&gad_campaignid=22195465159&gbraid=0AAAAACaH-zIMNZIQP4-V1LVL48CMoHE_9&gclid=CjwKCAjw6NrBBhB6EiwAvnT_rujOgc7hBx3LqSs4ickqJNsaCVflho7dfp0K91dQX0hOP88VtTMaZBoC_H4QAvD_BwE | D29: 1 | E29: CERCAS RAMACRISNA | F29: (31) 3596-2828 | G29: 38.67
A30: 45796 | B30: https://www.gravia.com/tela-plastificada-verde-losangular-gravia-63mm-fio-14--gravia/p?idsku=3192&idtag=ad390cb5-a610-4ace-97fa-f5540a47799b&gad_source=1&gad_campaignid=18454795117&gbraid=0AAAAADfoFR7JMYaA28TVfpdiozEGcyotp&gclid=CjwKCAjw6NrBBhB6EiwAvnT_rgPv32xjfQIDp-T3jBYp_l1Z0fVWVVFFjDiWdc60dFC-ADvME2WnyRoCGOIQAvD_BwE | C30: INICIAL CONSTRUÇÕES | D30: 1 | E30: GRAVIA | F30: (61) 3403-0403 | G30: 35.87
A31: 45796 | B31: https://www.casadascercas.com.br/tela-revestida-em-pvc-verde-fio-12-320mm-rolo-20m?gad_source=1&gad_campaignid=21436632470&gbraid=0AAAAADpSX-tgRGLgLvSSTwEkvBTgnzMpN&gclid=CjwKCAjw6NrBBhB6EiwAvnT_rmgUDvTdqPx-Au7qS7_KSqv8T4yZ25oYh9u4WD12nS-MqUwhwBCXNhoCECUQAvD_BwE | C31: J FREITAS ROCHA EIRELI | D31: 1 | E31: CASA DAS CERCAS | F31: (51) 99732-4671 | G31: 42.65
F32: MEDIANA: | G32: =MEDIAN(G29:G31) -> 38.67
A33: COTAÇÃO 005
A34: DATA | B34: LINK | D34: QUANT. | E34: EMPRESA | F34: TELEFONE | G34: VALOR (R$)
A35: 45470 | B35: https://www.gismar.com.br/products/rede-de-protecao-esportiva-para-tenis-e-beach-tennis-nylon | D35: 1 | E35: GISMAR REDES | F35: (11) 2079-2309 | G35: 22.8
A36: 45470 | B36: https://www.srredes.com.br/rede-de-protecao-esportiva-para-quadras-de-tenis-malha-4x4cm | C36: INICIAL CONSTRUÇÕES | D36: 1 | E36: SR REDES ESPORTIVAS | G36: 11.99
A37: 45470 | B37: https://www.azzureredes.com/fita-de-marcacao/fita-de-marcacao-para-volei-de-praia-16x8 | C37: J FREITAS ROCHA EIRELI | D37: 1 | E37: AZZURE CORDAS E REDES ESPORTIVAS | F37: (44) 99861-3102 | G37: 14.13
F38: MEDIANA: | G38: =MEDIAN(G35:G37) -> 14.13
A40: COTAÇÃO 006
A41: DATA | B41: LINK | D41: QUANT. | E41: EMPRESA | F41: TELEFONE | G41: VALOR (R$)
A42: 45470 | B42: https://www.magnumredes.com.br/cordas/cordas-de-nylon/corda-trancada-de-polietileno-nylon-fio-3-5mm-rolo?variant_id=557 | D42: 1 | E42: MAGNUM CORDAS E REDES ESPORTIVAS | F42: (44)9980-0219 | G42: 2.61
A43: 45470 | B43: https://www.pasredes.com.br/corda-de-polietileno-4mm?srsltid=AfmBOoqtPBcd3WfUZ3Iu5SFfH2ys-OU-oq77I8E1DtpbKAjpyVGQoqOo | C43: INICIAL CONSTRUÇÕES | D43: 1 | E43: PAS REDES | F43: (11)99143-7493 | G43: 1.46
A44: 45470 | B44: https://www.gismar.com.br/products/rede-de-protecao-esportiva-para-tenis-e-beach-tennis-nylon | D44: 1 | E44: GISMAR REDES | F44: (11) 2079-2309 | G44: 0.29
...

Sheet CAL VOL. REDE COL.
A1: Obra: | B1: =PLANILHA!B1 -> Construção de rede de drenagem pluvial
A2: Proprietário: | B2: =PLANILHA!B2 -> Prefeitura Municipal de Indiavaí
A3: Local: | B3: =PLANILHA!B3 -> Avenida Governador Jayme Campos
A4: Data: | B4: =DESCRIÇÃO!B4 -> 30 de julho de 2021
A5: CÁLCULO DE VOLUMES TUBOS COLETORES (BL - PV)
A6: TRECHO | B6: DIÂMETRO (MM) | C6: EXTENSÃO (M) | D6: LARGURA DE ESCAVAÇÃO (M) | E6: PROFUNDIDADE MON. (M) | F6: INCLINAÇÃO (%) | G6: ESP. PAREDE DE TUBO (M) | H6: ESP. BERÇO DE AREIA (M) | I6: VOL. BERÇO DE AREIA (M³) | J6: VOL. ESCAVAÇÃO (M³) | K6: VOL. REATERRO (M³)
A9: T1 | B9: 0.4 | C9: 16.32 | D9: 0.9 | E9: 1 | F9: 1.89 | G9: 0.06 | H9: =0.1 -> 0.1 | I9: =(C9*D9)*H9 -> 1.4688 | J9: =(C9*D9)*(E9+((C9*F9/100)/2)) -> 16.953242 | K9: =(C9*D9)*(E9+(C9*((F9/100)/2)))-(((PI()*(((B9+(G9*2))/2)^2))*C9)+(H9*C9*D9)) -> 12.018537
A10: T2 | B10: 0.4 | C10: 15.47 | D10: 0.9 | E10: 1 | F10: 7.16 | G10: 0.06 | H10: =0.1 -> 0.1 | I10: =(C10*D10)*H10 -> 1.3923 | J10: =(C10*D10)*(E10+((C10*F10/100)/2)) -> 21.633919 | K10: =(C10*D10)*(E10+(C10*((F10/100)/2)))-(((PI()*(((B10+(G10*2))/2)^2))*C10)+(H10*C10*D10)) -> 16.95623
A11: T3 | B11: 0.4 | C11: 14.12 | D11: 0.9 | E11: 1 | F11: 2.37 | G11: 0.08 | H11: =0.1 -> 0.1 | I11: =(C11*D11)*H11 -> 1.2708 | J11: =(C11*D11)*((E11+F11)/2) -> 21.41298 | K11: =(C11*D11)*((E11+F11)/2)-(((PI()*(((B11+(G11*2))/2)^2))*C11)+(H11*C11*D11)) -> 16.664412
A12: T4 | B12: 0.4 | C12: 15.98 | D12: 0.9 | E12: 1 | F12: 0.59 | G12: 0.08 | H12: =0.1 -> 0.1 | I12: =(C12*D12)*H12 -> 1.4382 | J12: =(C12*D12)*((E12+F12)/2) -> 11.43369 | K12: =(C12*D12)*((E12+F12)/2)-(((PI()*(((B12+(G12*2))/2)^2))*C12)+(H12*C12*D12)) -> 6.0596022
A13: T5 | B13: 0.4 | C13: 16.11 | D13: 0.9 | E13: 1 | F13: 0.97 | G13: 0.08 | H13: =0.1 -> 0.1 | I13: =(C13*D13)*H13 -> 1.4499 | J13: =(C13*D13)*((E13+F13)/2) -> 14.281515 | K13: =(C13*D13)*((E13+F13)/2)-(((PI()*(((B13+(G13*2))/2)^2))*C13)+(H13*C13*D13)) -> 8.8637081
A14: T6 | B14: 0.4 | C14: 14.71 | D14: 0.9 | E14: 1 | F14: 1.11 | G14: 0.08 | H14: =0.1 -> 0.1 | I14: =(C14*D14)*H14 -> 1.3239 | J14: =(C14*D14)*((E14+F14)/2) -> 13.967145 | K14: =(C14*D14)*((E14+F14)/2)-(((PI()*(((B14+(G14*2))/2)^2))*C14)+(H14*C14*D14)) -> 9.0201593
A15: T7 | B15: 0.4 | C15: 15.23 | D15: 0.9 | E15: 1 | F15: 0.46 | G15: 0.08 | H15: =0.1 -> 0.1 | I15: =(C15*D15)*H15 -> 1.3707 | J15: =(C15*D15)*((E15+F15)/2) -> 10.00611 | K15: =(C15*D15)*((E15+F15)/2)-(((PI()*(((B15+(G15*2))/2)^2))*C15)+(H15*C15*D15)) -> 4.8842478
A16: T8 | B16: 0.4 | C16: 13.53 | D16: 0.9 | E16: 1 | F16: 0.42 | G16: 0.08 | H16: =0.1 -> 0.1 | I16: =(C16*D16)*H16 -> 1.2177 | J16: =(C16*D16)*((E16+F16)/2) -> 8.64567 | K16: =(C16*D16)*((E16+F16)/2)-(((PI()*(((B16+(G16*2))/2)^2))*C16)+(H16*C16*D16)) -> 4.0955193
A17: T9 | B17: 0.4 | C17: 12.98 | D17: 0.9 | E17: 1 | F17: 0.41 | G17: 0.08 | H17: =0.1 -> 0.1 | I17: =(C17*D17)*H17 -> 1.1682 | J17: =(C17*D17)*((E17+F17)/2) -> 8.23581 | K17: =(C17*D17)*((E17+F17)/2)-(((PI()*(((B17+(G17*2))/2)^2))*C17)+(H17*C17*D17)) -> 3.8706248
A18: T10 | B18: 0.4 | C18: 11.51 | D18: 0.9 | E18: 1 | F18: 1.57 | G18: 0.06 | H18: =0.1 -> 0.1 | I18: =(C18*D18)*H18 -> 1.0359 | J18: =(C18*D18)*(E18+((C18*F18/100)/2)) -> 11.294972 | K18: =(C18*D18)*(E18+(C18*((F18/100)/2)))-(((PI()*(((B18+(G18*2))/2)^2))*C18)+(H18*C18*D18)) -> 7.8146741
A19: T11 | B19: 0.4 | C19: 14.25 | D19: 0.9 | E19: 1 | F19: 0.84 | G19: 0.06 | H19: =0.1 -> 0.1 | I19: =(C19*D19)*H19 -> 1.2825 | J19: =(C19*D19)*(E19+((C19*F19/100)/2)) -> 13.592576 | K19: =(C19*D19)*(E19+(C19*((F19/100)/2)))-(((PI()*(((B19+(G19*2))/2)^2))*C19)+(H19*C19*D19)) -> 9.28378
A20: T12 | B20: 0.4 | C20: 12.93 | D20: 0.9 | E20: 1 | F20: 0.5 | G20: 0.08 | H20: =0.1 -> 0.1 | I20: =(C20*D20)*H20 -> 1.1637 | J20: =(C20*D20)*((E20+F20)/2) -> 8.72775 | K20: =(C20*D20)*((E20+F20)/2)-(((PI()*(((B20+(G20*2))/2)^2))*C20)+(H20*C20*D20)) -> 4.3793798
A21: T13 | B21: 0.4 | C21: 18.26 | D21: 0.9 | E21: 1 | F21: 1.13 | G21: 0.08 | H21: =0.1 -> 0.1 | I21: =(C21*D21)*H21 -> 1.6434 | J21: =(C21*D21)*((E21+F21)/2) -> 17.50221 | K21: =(C21*D21)*((E21+F21)/2)-(((PI()*(((B21+(G21*2))/2)^2))*C21)+(H21*C21*D21)) -> 11.361356
A22: T14 | B22: 0.4 | C22: 11.56 | D22: 0.9 | E22: 1 | F22: 2.4 | G22: 0.08 | H22: =0.1 -> 0.1 | I22: =(C22*D22)*H22 -> 1.0404 | J22: =(C22*D22)*((E22+F22)/2) -> 17.6868 | K22: =(C22*D22)*((E22+F22)/2)-(((PI()*(((B22+(G22*2))/2)^2))*C22)+(H22*C22*D22)) -> 13.799162
A23: T15 | B23: 0.4 | C23: 14.29 | D23: 0.9 | E23: 1 | F23: 1.44 | G23: 0.08 | H23: =0.1 -> 0.1 | I23: =(C23*D23)*H23 -> 1.2861 | J23: =(C23*D23)*((E23+F23)/2) -> 15.69042 | K23: =(C23*D23)*((E23+F23)/2)-(((PI()*(((B23+(G23*2))/2)^2))*C23)+(H23*C23*D23)) -> 10.884681
A24: T16 | B24: 0.4 | C24: 11.6 | D24: 0.9 | E24: 1 | F24: 0.5 | G24: 0.08 | H24: =0.1 -> 0.1 | I24: =(C24*D24)*H24 -> 1.044 | J24: =(C24*D24)*((E24+F24)/2) -> 7.83 | K24: =(C24*D24)*((E24+F24)/2)-(((PI()*(((B24+(G24*2))/2)^2))*C24)+(H24*C24*D24)) -> 3.92891
A25: T17 | B25: 0.4 | C25: 15.74 | D25: 0.9 | E25: 1 | F25: 1.68 | G25: 0.08 | H25: =0.1 -> 0.1 | I25: =(C25*D25)*H25 -> 1.4166 | J25: =(C25*D25)*((E25+F25)/2) -> 18.98244 | K25: =(C25*D25)*((E25+F25)/2)-(((PI()*(((B25+(G25*2))/2)^2))*C25)+(H25*C25*D25)) -> 13.689064
A26: T18 | B26: 0.4 | C26: 13.1 | D26: 0.9 | E26: 1 | F26: 1.74 | G26: 0.08 | H26: =0.1 -> 0.1 | I26: =(C26*D26)*H26 -> 1.179 | J26: =(C26*D26)*((E26+F26)/2) -> 16.1523 | K26: =(C26*D26)*((E26+F26)/2)-(((PI()*(((B26+(G26*2))/2)^2))*C26)+(H26*C26*D26)) -> 11.746759
A27: T19 | B27: 0.4 | C27: 15.16 | D27: 0.9 | E27: 1 | F27: 0.97 | G27: 0.08 | H27: =0.1 -> 0.1 | I27: =(C27*D27)*H27 -> 1.3644 | J27: =(C27*D27)*((E27+F27)/2) -> 13.43934 | K27: =(C27*D27)*((E27+F27)/2)-(((PI()*(((B27+(G27*2))/2)^2))*C27)+(H27*C27*D27)) -> 8.3410189
A28: T20 | B28: 0.4 | C28: 13.69 | D28: 0.9 | E28: 1 | F28: 2.98 | G28: 0.08 | H28: =0.1 -> 0.1 | I28: =(C28*D28)*H28 -> 1.2321 | J28: =(C28*D28)*((E28+F28)/2) -> 24.51879 | K28: =(C28*D28)*((E28+F28)/2)-(((PI()*(((B28+(G28*2))/2)^2))*C28)+(H28*C28*D28)) -> 19.914831
A29: T21 | B29: 0.4 | C29: 14.17 | D29: 0.9 | E29: 1 | F29: 0.5 | G29: 0.08 | H29: =0.1 -> 0.1 | I29: =(C29*D29)*H29 -> 1.2753 | J29: =(C29*D29)*((E29+F29)/2) -> 9.56475 | K29: =(C29*D29)*((E29+F29)/2)-(((PI()*(((B29+(G29*2))/2)^2))*C29)+(H29*C29*D29)) -> 4.7993668
A30: T22 | B30: 0.4 | C30: 13.5 | D30: 0.9 | E30: 1 | F30: 2.96 | G30: 0.08 | H30: =0.1 -> 0.1 | I30: =(C30*D30)*H30 -> 1.215 | J30: =(C30*D30)*((E30+F30)/2) -> 24.057 | K30: =(C30*D30)*((E30+F30)/2)-(((PI()*(((B30+(G30*2))/2)^2))*C30)+(H30*C30*D30)) -> 19.516938
A31: T23 | B31: 0.4 | C31: 10.33 | D31: 0.9 | E31: 1 | F31: 3 | G31: 0.08 | H31: =0.1 -> 0.1 | I31: =(C31*D31)*H31 -> 0.9297 | J31: =(C31*D31)*((E31+F31)/2) -> 18.594 | K31: =(C31*D31)*((E31+F31)/2)-(((PI()*(((B31+(G31*2))/2)^2))*C31)+(H31*C31*D31)) -> 15.120012
A32: T24 | B32: 0.4 | C32: 9.28 | D32: 0.9 | E32: 1 | F32: 2.83 | G32: 0.08 | H32: =0.1 -> 0.1 | I32: =(C32*D32)*H32 -> 0.8352 | J32: =(C32*D32)*((E32+F32)/2) -> 15.99408 | K32: =(C32*D32)*((E32+F32)/2)-(((PI()*(((B32+(G32*2))/2)^2))*C32)+(H32*C32*D32)) -> 12.873208
A33: TOTAIS: | I33: =SUM(I9:I32) -> 30.0438 | J33: =SUM(J9:J32) -> 360.19751 | K33: =SUM(K9:K32) -> 249.88618
A34: RESPONSÁVEL TÉCNICO ORÇAMENTISTA | D34: CONTRATANTE | G34: OBSERVAÇÕES:
A38: JOÃO GUSTAVO FARIA DOS SANTOS JÚNIOR | D38: PREFEITURA MUNICIPAL DE INDIAVAÍ
A39: ENG. CIVIL - CREA Nº 5064045506 | D39: PREFEITO MUNICIPAL

Sheet CÁLCULO DE VOL E ESC REDE PRIN.
A1: Obra: | B1: =PLANILHA!B1 -> Construção de rede de drenagem pluvial
A2: Proprietário: | B2: =PLANILHA!B2 -> Prefeitura Municipal de Indiavaí
A3: Local: | B3: =PLANILHA!B3 -> Avenida Governador Jayme Campos
A4: Data: | B4: =DESCRIÇÃO!B4 -> 30 de julho de 2021
A5: CÁLCULO DE VOLUMES E ESCORAMENTO - TRECHOS DE DRENAGEM
A6: TRECHO | B6: DIÂMETRO (M) | C6: EXTENSÃO (M) | D6: LARGURA DE ESCAVAÇÃO (M) | E6: PROFUNDIDADE MON. (M) | F6: PROFUNDIDADE JUS. (M) | G6: ESP. PAREDE DE TUBO (M) | H6: ESP. BERÇO DE AREIA (M) | I6: VOL. BERÇO DE AREIA (M³) | J6: VOL. ESCAVAÇÃO (M³) | K6: VOL. REATERRO (M³) | L6: ÁREA ESCORAMENTO (M²)
A9: T1 | B9: 0.6 | C9: 88 | D9: 1 | E9: 1.8 | F9: 1.96 | G9: 0.06 | H9: =0.1 -> 0.1 | I9: =(C9*D9)*H9 -> 8.8 | J9: =(C9*D9)*((E9+F9)/2) -> 165.44 | K9: =(C9*D9)*((E9+F9)/2)-(((PI()*(((B9+(G9*2))/2)^2))*C9)+(H9*C9*D9)) -> 120.81076 | L9: =C9*((E9+F9)/2) -> 165.44
A10: T2 | B10: 0.6 | C10: 110 | D10: 1 | E10: 1.96 | F10: 2.2 | G10: 0.06 | H10: =0.1 -> 0.1 | I10: =(C10*D10)*H10 -> 11 | J10: =(C10*D10)*((E10+F10)/2) -> 228.8 | K10: =(C10*D10)*((E10+F10)/2)-(((PI()*(((B10+(G10*2))/2)^2))*C10)+(H10*C10*D10)) -> 173.01346 | L10: =C10*((E10+F10)/2) -> 228.8
A11: T3 | B11: 0.8 | C11: 110 | D11: 1.3 | E11: 2.2 | F11: 4.18 | G11: 0.07 | H11: =0.1 -> 0.1 | I11: =(C11*D11)*H11 -> 14.3 | J11: =(C11*D11)*((E11+F11)/2) -> 456.17 | K11: =(C11*D11)*((E11+F11)/2)-(((PI()*(((B11+(G11*2))/2)^2))*C11)+(H11*C11*D11)) -> 365.53244 | L11: =C11*((E11+F11)/2) -> 350.9
A12: T4 | B12: 0.8 | C12: 110 | D12: 1.3 | E12: 4.18 | F12: 2.91 | G12: 0.07 | H12: =0.1 -> 0.1 | I12: =(C12*D12)*H12 -> 14.3 | J12: =(C12*D12)*((E12+F12)/2) -> 506.935 | K12: =(C12*D12)*((E12+F12)/2)-(((PI()*(((B12+(G12*2))/2)^2))*C12)+(H12*C12*D12)) -> 416.29744 | L12: =C12*((E12+F12)/2) -> 389.95
A13: T5 | B13: 0.8 | C13: 110 | D13: 1.3 | E13: 2.91 | F13: 2.3 | G13: 0.07 | H13: =0.1 -> 0.1 | I13: =(C13*D13)*H13 -> 14.3 | J13: =(C13*D13)*((E13+F13)/2) -> 372.515 | K13: =(C13*D13)*((E13+F13)/2)-(((PI()*(((B13+(G13*2))/2)^2))*C13)+(H13*C13*D13)) -> 281.87744 | L13: =C13*((E13+F13)/2) -> 286.55
A14: T6 | B14: 0.8 | C14: 110 | D14: 1.3 | E14: 2.3 | F14: 2.3 | G14: 0.07 | H14: =0.1 -> 0.1 | I14: =(C14*D14)*H14 -> 14.3 | J14: =(C14*D14)*((E14+F14)/2) -> 328.9 | K14: =(C14*D14)*((E14+F14)/2)-(((PI()*(((B14+(G14*2))/2)^2))*C14)+(H14*C14*D14)) -> 238.26244 | L14: =C14*((E14+F14)/2) -> 253
A15: T7 | B15: 0.8 | C15: 78 | D15: 1.3 | E15: 2.3 | F15: 2.33 | G15: 0.07 | H15: =0.1 -> 0.1 | I15: =(C15*D15)*H15 -> 10.14 | J15: =(C15*D15)*((E15+F15)/2) -> 234.741 | K15: =(C15*D15)*((E15+F15)/2)-(((PI()*(((B15+(G15*2))/2)^2))*C15)+(H15*C15*D15)) -> 170.47073 | L15: =C15*((E15+F15)/2) -> 180.57
A16: T8 | B16: 0.8 | C16: 89 | D16: 1.3 | E16: 2.33 | F16: 2.3 | G16: 0.07 | H16: =0.1 -> 0.1 | I16: =(C16*D16)*H16 -> 11.57 | J16: =(C16*D16)*((E16+F16)/2) -> 267.8455 | K16: =(C16*D16)*((E16+F16)/2)-(((PI()*(((B16+(G16*2))/2)^2))*C16)+(H16*C16*D16)) -> 194.51147 | L16: =C16*((E16+F16)/2) -> 206.035
A17: T9 | B17: 0.8 | C17: 23 | D17: 1.3 | E17: 2.3 | F17: 2.3 | G17: 0.07 | H17: =0.1 -> 0.1 | I17: =(C17*D17)*H17 -> 2.99 | J17: =(C17*D17)*((E17+F17)/2) -> 68.77 | K17: =(C17*D17)*((E17+F17)/2)-(((PI()*(((B17+(G17*2))/2)^2))*C17)+(H17*C17*D17)) -> 49.81851 | L17: =C17*((E17+F17)/2) -> 52.9
A18: T10 | B18: 1 | C18: 79 | D18: 1.5 | E18: 2.3 | F18: 2.3 | G18: 0.1 | H18: =0.1 -> 0.1 | I18: =(C18*D18)*H18 -> 11.85 | J18: =(C18*D18)*((E18+F18)/2) -> 272.55 | K18: =(C18*D18)*((E18+F18)/2)-(((PI()*(((B18+(G18*2))/2)^2))*C18)+(H18*C18*D18)) -> 171.3531 | L18: =C18*((E18+F18)/2) -> 181.7
A19: TOTAIS: | I19: =SUM(I9:I17) -> 101.7 | J19: =SUM(J9:J17) -> 2630.1165 | K19: =SUM(K9:K17) -> 2010.5947 | L19: =SUM(L9:L17) -> 2114.145
A20: RESPONSÁVEL TÉCNICO ORÇAMENTISTA | D20: CONTRATANTE | G20: OBSERVAÇÕES:
A24: JOÃO GUSTAVO FARIA DOS SANTOS JÚNIOR | D24: PREFEITURA MUNICIPAL DE INDIAVAÍ
A25: ENG. CIVIL - CREA Nº 5064045506 | D25: PREFEITO MUNICIPAL

Sheet CALC. DIMEN.
A1: Obra: | B1: =PLANILHA!B1 -> Construção de rede de drenagem pluvial
A2: Proprietário: | B2: =PLANILHA!B2 -> Prefeitura Municipal de Indiavaí
A3: Local: | B3: =PLANILHA!B3 -> Avenida Governador Jayme Campos
A4: Data: | B4: =DESCRIÇÃO!B4 -> 30 de julho de 2021
A5: CÁLCULO DE DIMENSIONAMENTO DE TUBOS
A6: TRECHO | B6: ÁREAS DE CONTRIBUIÇÃO (HA) | C6: EXTENSÃO (M) | D6: COTA MON (M) | E6: COTA JUS (M) | F6: INCLINAÇÃO (M/M) | G6: VAZÃO SARJETAS TRECHO (M³/S) | H6: VAZÃO SARJETAS ACUM. (M³/S) | I6: DIÂMETRO CALCULADO (M) | J6: DIÂMETRO COMERCIAL (M) | K6: VERIFICAÇÃO | L6: PRÓX. DIÂMETRO COMERCIAL (M) | M6: VERIFICAÇÃO
A9: T1 | B9: 0.2554 | C9: 88 | D9: 200.82 | E9: 199 | F9: =(D9-E9)/C9 -> 0.020681818 | G9: =(B9*0.01*$C$21*$C$22)/3.6 -> 0.044517639 | H9: =(B9*0.01*C22*C21)/3.6 -> 0.044517639 | I9: =1.55*((($C$23*H9)/(F9^(1/2)))^(3/8)) -> 0.19592376 | J9: 0.6 | K9: =IF('CAL VERIFICAÇÕES'!Q9="OK","OK","NÃO OK") -> OK | L9: - | M9: -
A10: T2 | B10: 1.227 | C10: 110 | D10: 199 | E10: 196.56 | F10: =(D10-E10)/C10 -> 0.022181818 | G10: =(B10*0.01*$C$21*$C$22)/3.6 -> 0.21387292 | H10: =G10+H9 -> 0.25839056 | I10: =1.55*((($C$23*H10)/(F10^(1/2)))^(3/8)) -> 0.3739295 | J10: 0.6 | K10: =IF('CAL VERIFICAÇÕES'!Q10="OK","OK","NÃO OK") -> OK | L10: - | M10: -
A11: T3 | B11: 1.2366 | C11: 110 | D11: 196.56 | E11: 196.01 | F11: =(D11-E11)/C11 -> 0.005 | G11: =(B11*0.01*$C$21*$C$22)/3.6 -> 0.21554625 | H11: =G11+H10 -> 0.47393681 | I11: =1.55*((($C$23*H11)/(F11^(1/2)))^(3/8)) -> 0.62072429 | J11: 0.8 | K11: =IF('CAL VERIFICAÇÕES'!Q11="OK","OK","NÃO OK") -> OK | L11: - | M11: -
A12: T4 | B12: 0.8083 | C12: 110 | D12: 196.01 | E12: 195.46 | F12: =(D12-E12)/C12 -> 0.005 | G12: =(B12*0.01*$C$21*$C$22)/3.6 -> 0.14089118 | H12: =G12+H11 -> 0.61482799 | I12: =1.55*((($C$23*H12)/(F12^(1/2)))^(3/8)) -> 0.68436248 | J12: 0.8 | K12: =IF('CAL VERIFICAÇÕES'!Q12="OK","OK","NÃO OK") -> OK | L12: - | M12: -
A13: T5 | B13: 1.2438 | C13: 110 | D13: 195.46 | E13: 193.74 | F13: =(D13-E13)/C13 -> 0.015636364 | G13: =(B13*0.01*$C$21*$C$22)/3.6 -> 0.21680125 | H13: =G13+H12 -> 0.83162924 | I13: =1.55*((($C$23*H13)/(F13^(1/2)))^(3/8)) -> 0.61891877 | J13: 0.8 | K13: =IF('CAL VERIFICAÇÕES'!Q13="OK","OK","NÃO OK") -> OK | L13: - | M13: -
A14: T6 | B14: 1.18 | C14: 110 | D14: 193.74 | E14: 190.63 | F14: =(D14-E14)/C14 -> 0.028272727 | G14: =(B14*0.01*$C$21*$C$22)/3.6 -> 0.20568056 | H14: =G14+H13 -> 1.0373098 | I14: =1.55*((($C$23*H14)/(F14^(1/2)))^(3/8)) -> 0.60172034 | J14: 0.8 | K14: =IF('CAL VERIFICAÇÕES'!Q14="OK","OK","NÃO OK") -> OK | L14: - | M14: -
A15: T7 | B15: 0.7436 | C15: 78 | D15: 190.63 | E15: 188.71 | F15: =(D15-E15)/C15 -> 0.024615385 | G15: =(B15*0.01*$C$21*$C$22)/3.6 -> 0.12961361 | H15: =G15+H14 -> 1.1669234 | I15: =1.55*((($C$23*H15)/(F15^(1/2)))^(3/8)) -> 0.64543141 | J15: 0.8 | K15: =IF('CAL VERIFICAÇÕES'!Q15="OK","OK","NÃO OK") -> OK | L15: - | M15: -
A16: T8 | B16: 1.2844 | C16: 89 | D16: 188.71 | E16: 186.06 | F16: =(D16-E16)/C16 -> 0.029775281 | G16: =(B16*0.01*$C$21*$C$22)/3.6 -> 0.22387806 | H16: =G16+H15 -> 1.3908015 | I16: =1.55*((($C$23*H16)/(F16^(1/2)))^(3/8)) -> 0.66517651 | J16: 0.8 | K16: =IF('CAL VERIFICAÇÕES'!Q16="OK","OK","NÃO OK") -> OK | L16: - | M16: -
A17: T9 | B17: 1.2844 | C17: 23 | D17: 186.06 | E17: 185.45 | F17: =(D17-E17)/C17 -> 0.026521739 | G17: =(B17*0.01*$C$21*$C$22)/3.6 -> 0.22387806 | H17: =G17+H16 -> 1.6146795 | I17: =1.55*((($C$23*H17)/(F17^(1/2)))^(3/8)) -> 0.7188983 | J17: 0.8 | K17: =IF('CAL VERIFICAÇÕES'!Q17="OK","OK","NÃO OK") -> OK | L17: - | M17: -
A18: T10 | B18: 0 | C18: 79 | D18: 185.45 | E18: 184.83 | F18: =(D18-E18)/C18 -> 0.0078481013 | G18: =(B18*0.01*$C$21*$C$22)/3.6 -> 0 | H18: =G18+H17 -> 1.6146795 | I18: =1.55*((($C$23*H18)/(F18^(1/2)))^(3/8)) -> 0.90328431 | J18: 1 | K18: =IF('CAL VERIFICAÇÕES'!Q18="OK","OK","NÃO OK") -> OK | L18: - | M18: -
B20: DADOS
B21: C | C21: 0.5
B22: i | C22: 125.5
B23: MANNING | C23: 0.013
B24: TEMPO DE CONCENTRAÇÃO | C24: 15 MINUTOS
B25: PERÍODO DE RETORNO | C25: 10 ANOS
A27: RESPONSÁVEL TÉCNICO ORÇAMENTISTA | E27: CONTRATANTE | H27: OBSERVAÇÕES:
H29: DEVIDO A RISCOS DE ENTUPIMENTO NÃO SERÃO USADOS TUBOS COM DIÂMETROS INFERIORES A 60 CM NAS REDES PRINCIPAIS.
A31: JOÃO GUSTAVO FARIA DOS SANTOS JÚNIOR | E31: PREFEITURA MUNICIPAL DE INDIAVAÍ | H31: NÃO HAVERÁ DIMINUIÇÃO DE DIÂMETRO DURANTE O PERCURSO DE REDE.
A32: ENG. CIVIL - CREA Nº 5064045506 | E32: PREFEITO MUNICIPAL

Sheet CAL VERIFICAÇÕES
A1: Obra: | B1: =PLANILHA!B1 -> Construção de rede de drenagem pluvial
A2: Proprietário: | B2: =PLANILHA!B2 -> Prefeitura Municipal de Indiavaí
A3: Local: | B3: =PLANILHA!B3 -> Avenida Governador Jayme Campos
